BEGIN:VCALENDAR
VERSION:2.0
PRODID:-//Patriot Guard Riders - ECPv5.6.0//NONSGML v1.0//EN
CALSCALE:GREGORIAN
METHOD:PUBLISH
X-WR-CALNAME:Patriot Guard Riders
X-ORIGINAL-URL:https://www.patriotguard.org
X-WR-CALDESC:Events for Patriot Guard Riders
BEGIN:VTIMEZONE
TZID:America/New_York
BEGIN:DAYLIGHT
TZOFFSETFROM:-0500
TZOFFSETTO:-0400
TZNAME:EDT
DTSTART:20160313T070000
END:DAYLIGHT
BEGIN:STANDARD
TZOFFSETFROM:-0400
TZOFFSETTO:-0500
TZNAME:EST
DTSTART:20161106T060000
END:STANDARD
END:VTIMEZONE
BEGIN:VEVENT
DTSTART;TZID=America/New_York:20160723T090000
DTEND;TZID=America/New_York:20160723T110000
DTSTAMP:20210512T223826
CREATED:20160723T130000Z
LAST-MODIFIED:20191201T144127Z
UID:410409-1469264400-1469271600@www.patriotguard.org
SUMMARY:John E. Markham
DESCRIPTION:PFC John E. Markham\nUSMC Veteran\nPilot Knob\, MO\n23 JUL 16\n\n\n\nThe Family of USMC Veteran PFC. John E. Markham (84 yrs.) has Requested the Patriot Guard for the Final Mission of Their Loved One. \nSATURDAY\, JULY 23rd.\, 2016 \nVisitation: 9:00 a.m. to 11:00 a.m.  (0900-1100 hrs.) \nService:  11:00 a.m.  (1100 hrs.) \nHonor Escort to the Huff Cemetery (Glover\, MO. (approx. 12 mi.) for Interment with Full Military Honors. \nRCIC:\nDon “Wolfhound” Wynn\, RC.\navamb8100@hotmail.com \nFlags/Support:\nStan “Caddy” Janis \nStaging: 9:30 a.m. (0930 hrs.) to Establish a Flag Line.\nBryson Funeral Home\n312 S. Valle Street\nPilot Knob\, MO.  63663 \nWeather Predictions:  95° / 30% Chance of Isolated Thundershower. / HYDRATE. \nRespectfully Submitted:\nS. Roger “Goose” Dollinger\, SRC
URL:https://www.patriotguard.org/mission/john-e-markham/
CATEGORIES:Archive
END:VEVENT
END:VCALENDAR