BEGIN:VCALENDAR
VERSION:2.0
PRODID:-//Patriot Guard Riders - ECPv5.3.2.1//NONSGML v1.0//EN
CALSCALE:GREGORIAN
METHOD:PUBLISH
X-WR-CALNAME:Patriot Guard Riders
X-ORIGINAL-URL:https://www.patriotguard.org
X-WR-CALDESC:Events for Patriot Guard Riders
BEGIN:VTIMEZONE
TZID:America/New_York
BEGIN:DAYLIGHT
TZOFFSETFROM:-0500
TZOFFSETTO:-0400
TZNAME:EDT
DTSTART:20190310T070000
END:DAYLIGHT
BEGIN:STANDARD
TZOFFSETFROM:-0400
TZOFFSETTO:-0500
TZNAME:EST
DTSTART:20191103T060000
END:STANDARD
END:VTIMEZONE
BEGIN:VEVENT
DTSTART;VALUE=DATE:20190725
DTEND;VALUE=DATE:20190726
DTSTAMP:20210403T182342
CREATED:20190722T101432Z
LAST-MODIFIED:20190722T102320Z
UID:168468-1564012800-1564099199@www.patriotguard.org
SUMMARY:John E. Carcione
DESCRIPTION:Honor Mission\nJohn E. Carcione\, Veteran\nUSA\, USN – WWII\, LEO (Retired)\nBushnell\, Florida – 07-25-19\n\n\n \n\nABOUT THE MISSION: \nThe family of John E. Carcione has graciously requested the Patriot Guard Riders’ presence as they show their final respects to their loved one. PFC Carcione faithfully served his country in the U.S. Navy and U.S. Army and fought in the European Theater. Upon his return home\, he worked for the Metropolitan District Commission Police (predecessor for Boston PD) where he retired.\nPlease bring your 3 X 5 American Flags and stand in Honor and Respect for this U.S. Soldier and his family.\n\n\nPRIMARY STAGING DETAILS: 07-25-19 \nStaging Time: 12:15  \nFlorida National Cemetery\n6502 SW 102nd Ave\nBushnell\, Florida 33513\nMap\n\n\nRide Captain: \nJack Fair\ncell (727) 857-4416\n\n\nSpecial Instructions: \n12:30pm – Brief\n1:00pm  –  Service\n          Please hydrate!\n\n\nFlags & Water:\nFlags will not be provided.\nLarge Bike Flags will NOT be needed.\nWater WILL NOT be provided\, please bring your own.\n\n\nSubmitted By: Jeff Garten \nPosition: Florida Assistant State Captain \n\nNote: You do not have to own/ride a motorcycle or be a veteran to join\, and membership is Free. The only requirement is RESPECT! To subscribe to receive mission notices\, log into the National Site and click on the Members tab at the top. Select the Subscribe to PGR Missions option.\n Print This Page
URL:https://www.patriotguard.org/mission/john-e-carcione-2/
CATEGORIES:Honor Mission
END:VEVENT
END:VCALENDAR