BEGIN:VCALENDAR
VERSION:2.0
PRODID:-//Patriot Guard Riders - ECPv5.3.2.1//NONSGML v1.0//EN
CALSCALE:GREGORIAN
METHOD:PUBLISH
X-WR-CALNAME:Patriot Guard Riders
X-ORIGINAL-URL:https://www.patriotguard.org
X-WR-CALDESC:Events for Patriot Guard Riders
BEGIN:VTIMEZONE
TZID:America/New_York
BEGIN:DAYLIGHT
TZOFFSETFROM:-0500
TZOFFSETTO:-0400
TZNAME:EDT
DTSTART:20190310T070000
END:DAYLIGHT
BEGIN:STANDARD
TZOFFSETFROM:-0400
TZOFFSETTO:-0500
TZNAME:EST
DTSTART:20191103T060000
END:STANDARD
END:VTIMEZONE
BEGIN:VEVENT
DTSTART;VALUE=DATE:20190729
DTEND;VALUE=DATE:20190730
DTSTAMP:20210402T131324
CREATED:20190726T203842Z
LAST-MODIFIED:20190726T203842Z
UID:168870-1564358400-1564444799@www.patriotguard.org
SUMMARY:John E. Brandt
DESCRIPTION:Honor Mission\nJohn E. Brandt\, Veteran\nUSMC\nSt. Louis\, Missouri – 07-29-19\n\n\n\n\nABOUT THE MISSION: \nPlease join us in honoring U.S. Marine Corps veteran John Brandt\, who once stood for every one of us.  Mr. Brandt earned the rank of Corporal at Camp Lejeune\, while serving our nation from 1950 thru 1952.\n\n\nPRIMARY STAGING DETAILS: 07-29-19 \nStaging Time: 9:45 am\n \nFEY Funeral Home\n4100 Lemay Ferry Road\nSt. Louis\, Missouri 63129\n\n\nRide Captain: \nJeff ‘Tattoo’ Hirsch w/flags\njeff.stlpgr@gmail.com\n314-210-6307\n\n\nSpecial Instructions: \n9:45 am – Staging w/ ride meeting to follow.\n10:00 am – Family arrival.\n10:15 – Honor escort (3 miles) to Jefferson Barracks National Cemetery.\n10:30 – Military honors.\nHydrate more than you think necessary! Cages are always welcome!\n\nFlags & Water:\nFlags will be provided\nIf you have large bike flags\, please bring them.\nWater WILL NOT be provided\, please bring your own.\n\n\n\n\nSubmitted By: Jeff Hirsch \nPosition: Missouri Ride Captain \n\nNote: You do not have to own/ride a motorcycle or be a veteran to join\, and membership is Free. The only requirement is RESPECT! To subscribe to receive mission notices\, log into the National Site and click on the Members tab at the top. Select the Subscribe to PGR Missions option.\n Print This Page
URL:https://www.patriotguard.org/mission/john-e-brandt/
CATEGORIES:Honor Mission
END:VEVENT
END:VCALENDAR