BEGIN:VCALENDAR
VERSION:2.0
PRODID:-//Patriot Guard Riders - ECPv5.3.2.1//NONSGML v1.0//EN
CALSCALE:GREGORIAN
METHOD:PUBLISH
X-WR-CALNAME:Patriot Guard Riders
X-ORIGINAL-URL:https://www.patriotguard.org
X-WR-CALDESC:Events for Patriot Guard Riders
BEGIN:VTIMEZONE
TZID:America/New_York
BEGIN:DAYLIGHT
TZOFFSETFROM:-0500
TZOFFSETTO:-0400
TZNAME:EDT
DTSTART:20170312T070000
END:DAYLIGHT
BEGIN:STANDARD
TZOFFSETFROM:-0400
TZOFFSETTO:-0500
TZNAME:EST
DTSTART:20171105T060000
END:STANDARD
END:VTIMEZONE
BEGIN:VEVENT
DTSTART;TZID=America/New_York:20170628T120000
DTEND;TZID=America/New_York:20170628T140000
DTSTAMP:20210404T150217
CREATED:20170628T160000Z
LAST-MODIFIED:20191201T030223Z
UID:306945-1498651200-1498658400@www.patriotguard.org
SUMMARY:John Douglas Brown\, Veteran\, USA - WW II
DESCRIPTION:John Douglas Brown\, Veteran  \n\nUSA  – WW II \nHuntsville\, Alabama – 28 Jun 2017\n\n\n\n[HR][/HR]\nABOUT THE MISSION: \nThe family of John Douglas Brown has asked the Patriot Guard to honor their loved one by standing a flag line at his visitation and funeral with escort to his  final resting place. \nWe will be honored to do so. \nMr. Brown (92)  was in the U.S. Army in WW II and served with distinction. \n\nPRIMARY STAGING DETAILS:  28 Jun 2017\n \n \nPrimary Staging Time:  12:00 pm\n\nBerryhill Funeral Home\n2305 Memorial Pky. N.\n\nHuntsville\, Alabama – 35810\n\n\n\n\n\n \n \nRide Captain:\n\nCoop\npgrcoop@gmail.com\n256-653-2896 \n\nFlag Captain:\nGary Moore\ngmoore3009@hotmail.com\n256-425-7002\n\n\n\n \n \nSpecial Instructions:\n\nPlace flags\nSet flag line by 12:30 pm\nFuneral to follow at 2:00 pm\nEscort to:\nMaple Hill Cemetery\n\n\n\n \n \nFlags & Water:\n\nFlags Will Be Provided\n\nIf you have large bike flags\, please bring them.\n\nWater will be provided.\n\n \nSubmitted By:  John Cooper\nPosition:  Ride Captain \n[HR][/HR]\nNote:\n\nYou do not have to own/ride a motorcycle or be a Veteran to join and membership is Free. The only requirement is RESPECT! To join\, simply go to www.PatriotGuard.org and click on Register. Membership is Free. \nTo subscribe to receive mission notices\, log into the National Site and  click on the Mission Tab at the top. Select Upcoming Missions by State.  Scroll to the state(s) you would like to receive notices for and click  on the green check mark. Detailed instructions are also located in the  FAQs on the site by clicking on the Quick Links Tab and selecting FAQs.
URL:https://www.patriotguard.org/mission/john-douglas-brown-veteran-usa-ww-ii/
LOCATION:Robert G. Schaffran
END:VEVENT
END:VCALENDAR