BEGIN:VCALENDAR
VERSION:2.0
PRODID:-//Patriot Guard Riders - ECPv5.6.0//NONSGML v1.0//EN
CALSCALE:GREGORIAN
METHOD:PUBLISH
X-WR-CALNAME:Patriot Guard Riders
X-ORIGINAL-URL:https://www.patriotguard.org
X-WR-CALDESC:Events for Patriot Guard Riders
BEGIN:VTIMEZONE
TZID:America/New_York
BEGIN:DAYLIGHT
TZOFFSETFROM:-0500
TZOFFSETTO:-0400
TZNAME:EDT
DTSTART:20160313T070000
END:DAYLIGHT
BEGIN:STANDARD
TZOFFSETFROM:-0400
TZOFFSETTO:-0500
TZNAME:EST
DTSTART:20161106T060000
END:STANDARD
END:VTIMEZONE
BEGIN:VEVENT
DTSTART;TZID=America/New_York:20160808T090000
DTEND;TZID=America/New_York:20160808T110000
DTSTAMP:20210512T021914
CREATED:20160808T130000Z
LAST-MODIFIED:20191201T143802Z
UID:410095-1470646800-1470654000@www.patriotguard.org
SUMMARY:John Chappins\, USA
DESCRIPTION:The Family of John “Jack” Chappins\, has requested the Patriot Guard riders to assist and honor their fallen loved one. \nA Vietnam veteran serving in the U.S. Army\, he dedicated 6 years of his life protecting our freedoms\, serving honorably from 1969 – 1975. SP4 Chappins was awarded several medals for his dedicated service. He was a proud and dedicated veteran and we will be honored to stand for him as he once stood for us…\n\nStaging:         Jefferson Barracks Nat’l Cemetery \n                       2900 Sheridan.\n                        St. Louis\, MO 63125\n1000 hrs (10:00am) Monday\, 8 August 2016\n\nRide mtg:       1010 (10:10am)\n\nWe will escort our hero\, his family\, and friends to a shelter where we will stand a flag line of honor while military honors are rendered. Service is scheduled to begin at 1030 hrs (10:30am).   \nRide Capt … Neil “Nitehawk” Hill\nNitehawk.pgr@gmail.com\n[URL=”tel:314-808-2568″]314-808-2568\n[/URL]\nSupport & Flags provided by Jim ”Tinker” Jarzenbeck \nTemperatures are forecast to range from a morning low of 69 to an afternoon high of 88 and partly sunny. Hydrate only to excess.
URL:https://www.patriotguard.org/mission/john-chappins-usa/
CATEGORIES:Archive
END:VEVENT
END:VCALENDAR