BEGIN:VCALENDAR
VERSION:2.0
PRODID:-//Patriot Guard Riders - ECPv5.6.0//NONSGML v1.0//EN
CALSCALE:GREGORIAN
METHOD:PUBLISH
X-WR-CALNAME:Patriot Guard Riders
X-ORIGINAL-URL:https://www.patriotguard.org
X-WR-CALDESC:Events for Patriot Guard Riders
BEGIN:VTIMEZONE
TZID:America/New_York
BEGIN:DAYLIGHT
TZOFFSETFROM:-0500
TZOFFSETTO:-0400
TZNAME:EDT
DTSTART:20130310T070000
END:DAYLIGHT
BEGIN:STANDARD
TZOFFSETFROM:-0400
TZOFFSETTO:-0500
TZNAME:EST
DTSTART:20131103T060000
END:STANDARD
END:VTIMEZONE
BEGIN:VEVENT
DTSTART;TZID=America/New_York:20130304T090000
DTEND;TZID=America/New_York:20130304T110000
DTSTAMP:20210513T041929
CREATED:20130304T140000Z
LAST-MODIFIED:20191201T121229Z
UID:387542-1362387600-1362394800@www.patriotguard.org
SUMMARY:John C. Novak\, 78\, USA / USAF / NANG (RET) / LEO
DESCRIPTION:United States Army\, United States Air Force \nNebraska Army National Guard  \nK-9 Handler- Lincoln Police Department \nJohn C. Novak 78\,  \nThe family of Veteran  John C Novak\, 78\, has requested the Patriot Guard Riders participate in his funeral service at 10am on Monday morning at Christ Lutheran Church in Lincoln Nebraska.  Burial with military honors will be in Lincoln Memorial Cemetery. \n. \nVeteran Novak 78\, Retired Military Veteran after 23 years. Served in the U.S. Navy\, Air Force and Army National Guard. Former K-9 handler for Lincoln Police Dept. Member: Christ Lutheran Church\, Rebels Auto Club\, American Legion Post #3\, D.A.V. and V.F.W. Post #3606. \n. \nThe PGR will provide a Flag Line at the 10am service at Christ Lutheran Church\, a Flag line at the graveside service and weather permitting\, an escort to the Cemetery.\n.\nSTAGE DATE:               Monday\, March 04\, 2013\n.\nSTAGE LOCATION:     Christ Lutheran Church\, 4325 Sumner St\, Lincoln NE 68506\n.\nSTAGE TIME:                         9:00am\n.\nPGR MEETING:                      9:15am\n.\nFLAG LINE:                            9:30am    Flags will be provided\n.\nFUNERAL SERVICE:              10am \nCemetery service and escort details will be communicated at the 9:15 riders meeting. \nGraveside service: Lincoln Memorial Cemetery\, 6800 S 14th St\, Lincoln\, NE 68512\n. \nRIDE CAPTAIN:  Bob Bennie bob @bobbennie.com 402-613-0858 \n. \nFLAG CAPTAIN: Farley Pool farleypool@windstream.net     402-560-8026 \n.\nSafety being paramount – ride only if conditions permit. The Patriot Guard Riders have been recognized by the National Safety Council and the Nebraska Office of Highway Safety for adhering to and promoting motorcycle safety. Ride Alert – Ride Safe. \nPlease monitor “Confirmed Missions” for changes and updates \nScott Knudsen \nState Captain\n402-680-7598 -Omaha
URL:https://www.patriotguard.org/mission/john-c-novak-78-usa-usaf-nang-ret-leo/
CATEGORIES:Archive
END:VEVENT
END:VCALENDAR