BEGIN:VCALENDAR
VERSION:2.0
PRODID:-//Patriot Guard Riders - ECPv5.3.2.1//NONSGML v1.0//EN
CALSCALE:GREGORIAN
METHOD:PUBLISH
X-WR-CALNAME:Patriot Guard Riders
X-ORIGINAL-URL:https://www.patriotguard.org
X-WR-CALDESC:Events for Patriot Guard Riders
BEGIN:VTIMEZONE
TZID:America/New_York
BEGIN:DAYLIGHT
TZOFFSETFROM:-0500
TZOFFSETTO:-0400
TZNAME:EDT
DTSTART:20190310T070000
END:DAYLIGHT
BEGIN:STANDARD
TZOFFSETFROM:-0400
TZOFFSETTO:-0500
TZNAME:EST
DTSTART:20191103T060000
END:STANDARD
END:VTIMEZONE
BEGIN:VEVENT
DTSTART;VALUE=DATE:20190912
DTEND;VALUE=DATE:20190913
DTSTAMP:20210401T101213
CREATED:20190910T200945Z
LAST-MODIFIED:20190910T200945Z
UID:173404-1568246400-1568332799@www.patriotguard.org
SUMMARY:John Butler
DESCRIPTION:Honor Mission\nJohn Butler\, Retired\nUSMC\nColumbus\, Georgia – 09-12-19\n\n\n ABOUT THE MISSION:\n\n\nThe family of SSG John Butler has requested that the Patriot Guard Riders stand in silent honor of his service to our nation. It is our honor to do so. Mr. Butler passed away on September 6\, 2019 at the age of 94. Mr. Butler served our country in the US Marine Corps for 20 years. Mr Butler stood for us\, it is now time for us to stand for him.\n\n\nPRIMARY STAGING DETAILS: 09-12-19 \nStaging Time: 10:45 am \nHill-Watson Memorial Chapel\n2919 Hamilton Road\nColumbus\, Georgia 31904\n\n\nRide Captain: \nPhil “mumbles” Bennett\nbennettphil@hotmail.com\n\n\nSpecial Instructions:  \nWe will stand a flag line for the funeral service\, after the service we will escort Mr Butler to his final resting place at Fort Mitchell National Cemetery.\n\n\nFlags & Water:\n\nFlags will be provided\nIf you have large bike flags\, please bring them.\nWater will be provided.\n\n\n\nSubmitted By: Phillip Bennett \nPosition: Georgia Ride Captain \n\nNote: You do not have to own/ride a motorcycle or be a veteran to join\, and membership is Free. The only requirement is RESPECT! To subscribe to receive mission notices\, log into the National Site and click on the Members tab at the top. Select the Subscribe to PGR Missions option.\n Print This Page
URL:https://www.patriotguard.org/mission/john-butler/
CATEGORIES:Honor Mission
END:VEVENT
END:VCALENDAR