BEGIN:VCALENDAR
VERSION:2.0
PRODID:-//Patriot Guard Riders - ECPv5.3.2.1//NONSGML v1.0//EN
CALSCALE:GREGORIAN
METHOD:PUBLISH
X-WR-CALNAME:Patriot Guard Riders
X-ORIGINAL-URL:https://www.patriotguard.org
X-WR-CALDESC:Events for Patriot Guard Riders
BEGIN:VTIMEZONE
TZID:America/New_York
BEGIN:DAYLIGHT
TZOFFSETFROM:-0500
TZOFFSETTO:-0400
TZNAME:EDT
DTSTART:20190310T070000
END:DAYLIGHT
BEGIN:STANDARD
TZOFFSETFROM:-0400
TZOFFSETTO:-0500
TZNAME:EST
DTSTART:20191103T060000
END:STANDARD
END:VTIMEZONE
BEGIN:VEVENT
DTSTART;VALUE=DATE:20190622
DTEND;VALUE=DATE:20190623
DTSTAMP:20210404T231531
CREATED:20190618T191254Z
LAST-MODIFIED:20190618T191254Z
UID:165028-1561161600-1561247999@www.patriotguard.org
SUMMARY:John Benn
DESCRIPTION:Honor Mission\nJohn Benn\, Veteran\nUSMC – Vietnam\nSulphur\, Oklahoma – 06-22-19\n\n\n\nABOUT THE MISSION: \nThe family of John Benn\, USMC Vietnam Veteran has asked the Patriot Guard Riders to stand a flag line at his memorial service to be held 10:00 am.\nMr. Benn joined the USMC at the age of 18 serving in Vietnam. He received the Purple Heart after being wounded in battle.\n\n\n\nPRIMARY STAGING DETAILS: 06-22-19 \nStaging Time: 9:00: am  \nCalvary Baptist Church\n1000 West 12th Street\nSulphur\, Oklahoma 73086\n\n\nRide Captain: \nGene “bugler” Maloy\ngenkat@sbcglobal.net\n80-220-5717\n\n\nSpecial Instructions: \nMandatory Briefing: 9:15 am.  Must attend briefing to accompany Hero to cemetery.\nFlag Line: 9:30 am\nWeather: Cloudy with temps in mid 70’s to lower 80’s\, 40% chance of rain in the afternoon.\n\n\nFlags & Water:\nFlags will be provided\nIf you have large bike flags\, please bring them.\nWater will be provided.\n\n\n\nSubmitted By: David Engelhardt \nPosition: Oklahoma Ride Captain \n\nNote: You do not have to own/ride a motorcycle or be a veteran to join\, and membership is Free. The only requirement is RESPECT! To subscribe to receive mission notices\, log into the National Site and click on the Members tab at the top. Select the Subscribe to PGR Missions option.\n Print This Page
URL:https://www.patriotguard.org/mission/john-benn/
CATEGORIES:Honor Mission
END:VEVENT
END:VCALENDAR