BEGIN:VCALENDAR
VERSION:2.0
PRODID:-//Patriot Guard Riders - ECPv5.3.2.1//NONSGML v1.0//EN
CALSCALE:GREGORIAN
METHOD:PUBLISH
X-WR-CALNAME:Patriot Guard Riders
X-ORIGINAL-URL:https://www.patriotguard.org
X-WR-CALDESC:Events for Patriot Guard Riders
BEGIN:VTIMEZONE
TZID:America/New_York
BEGIN:DAYLIGHT
TZOFFSETFROM:-0500
TZOFFSETTO:-0400
TZNAME:EDT
DTSTART:20190310T070000
END:DAYLIGHT
BEGIN:STANDARD
TZOFFSETFROM:-0400
TZOFFSETTO:-0500
TZNAME:EST
DTSTART:20191103T060000
END:STANDARD
END:VTIMEZONE
BEGIN:VEVENT
DTSTART;VALUE=DATE:20190913
DTEND;VALUE=DATE:20190914
DTSTAMP:20210401T021428
CREATED:20190910T033318Z
LAST-MODIFIED:20190910T033425Z
UID:172721-1568332800-1568419199@www.patriotguard.org
SUMMARY:John Bailey\, Jr.
DESCRIPTION:Honor Mission\nJohn Bailey\, Jr.\, Veteran\nUSA\, USAF – WWII\nMaple Valley\, Washington – 09-13-19\n\n\n\nABOUT THE MISSION: \nLadies and Gentlemen of the Patriot Guard Riders\, we have been invited by the family of 1st Lt. John Bailey\, Jr. to stand in attendance at their loved one’s final military honors. 2nd Lt. Bailey was flying AP-6’s within the USA as a target tow operator with the Army Air Corps. Eventually John earned the rank of 1st Lt and transferred to Britain to fly C-47 transport planes. He transported mostly cargo\, but did fly 3-4 combat missions and flew paratroopers to be dropped in Europe. According to his son John\, he flew to Europe\, East Africa\, and Brazil all while stationed in the UK. 1st LT Bailey had signed on for a full 3 year term of service but the Army Air Forces released him 9 months early so that he could enroll in college to earn a degree. Eventually John moved to Washington\, went to work for Boeing and worked on designing instrument panels and cargo systems for most of their commercial planes and the B-52 and B-47. While at Boeing John was part of the Boeing Flying Club and was in a co-op that owned a Cessna. John truly loved flying and the machines that flew; he spent his entire life in thrall of them. Let’s stand and honor this true American Hero and one of the Greatest Generation.\n\n\nPRIMARY STAGING DETAILS: 09-13-19 \nStaging Time: 10:40 AM\n \nThis service follows an earlier service at the same location\, we will just segue from one spot to the next – this will be covered at the first mission briefing.\nMaple Valley\, Washington 98038\n\n\nRide Captain: \nSabrina “Mother Hen” Brown\npgrmotherhen@gmail.com\n206-369-1434\n\nSV – Ron Jellum\, ltrsz28@hotmail.com\, 206-669-8662\n\n\nSpecial Instructions: \nSPECIAL NOTE ON STAGING: There will be no set staging for this mission; it follows another service at the same location so we will just switch shelters.\nMission briefing will be covered during the break between services.\nThis is the second of three missions on this date.\nService begins at 11:00.\nPlease check the weather\, dress comfortably.\nCages always welcome!\n\n\nFlags & Water:\nFlags will be provided\nLarge Bike Flags will NOT be needed.\nWater will be provided.\n\n\n\nSubmitted By: Sabrina Brown \nPosition: Washington State Captain \n\nNote: You do not have to own/ride a motorcycle or be a veteran to join\, and membership is Free. The only requirement is RESPECT! To subscribe to receive mission notices\, log into the National Site and click on the Members tab at the top. Select the Subscribe to PGR Missions option.\n Print This Page
URL:https://www.patriotguard.org/mission/john-bailey-jr/
CATEGORIES:Honor Mission
END:VEVENT
END:VCALENDAR