BEGIN:VCALENDAR
VERSION:2.0
PRODID:-//Patriot Guard Riders - ECPv5.3.2.1//NONSGML v1.0//EN
CALSCALE:GREGORIAN
METHOD:PUBLISH
X-WR-CALNAME:Patriot Guard Riders
X-ORIGINAL-URL:https://www.patriotguard.org
X-WR-CALDESC:Events for Patriot Guard Riders
BEGIN:VTIMEZONE
TZID:America/New_York
BEGIN:DAYLIGHT
TZOFFSETFROM:-0500
TZOFFSETTO:-0400
TZNAME:EDT
DTSTART:20190310T070000
END:DAYLIGHT
BEGIN:STANDARD
TZOFFSETFROM:-0400
TZOFFSETTO:-0500
TZNAME:EST
DTSTART:20191103T060000
END:STANDARD
END:VTIMEZONE
BEGIN:VEVENT
DTSTART;VALUE=DATE:20190722
DTEND;VALUE=DATE:20190723
DTSTAMP:20210404T025036
CREATED:20190719T192553Z
LAST-MODIFIED:20190719T192553Z
UID:168282-1563753600-1563839999@www.patriotguard.org
SUMMARY:John B. Hubert\, III
DESCRIPTION:Honor Mission\nJohn B. Hubert\, III\, Retired\nUSN\nMarietta\, Georgia – 07-22-19\n\n\n\n\nABOUT THE MISSION: \nJohn Bunyan “Johnny” Hubert\, III stood for us by serving in the United States Navy for 33 years. His family has requested the Patriot Guard Riders to now stand for him. It will be an honor to do so. John Hubert achieved the rank of Senior Chief Petty Officer before retiring. After his military service\, he retired from the Cobb County Sheriff’s Department where he worked in the Courthouse as a photographer as well as in the Detention Center.\n\n\nPRIMARY STAGING DETAILS: 07-22-19 \nStaging Time: 09:30 am \nSouthern Cremations and Funerals\nCheatham Hills Memorial Park\n1861 Dallas Highway SW\nMarietta\, Georgia 30064\nMap\n\n\nRide Captain: \nPeter “Sidehack” Hefele\nsidehack@aol.com\n(404) 791-6151\n\n\nSpecial Instructions: \nThis will be a flag line only mission. We will stand a flag line for family and friends viewing from 10 am until 12 noon. We will provide honors as Military honors are rendered. Park behind the Columbarium/Mausoleum on the left side of the road so as to leave room for traffic to pass.\n\n\nFlags & Water:\n\nFlags will be provided\nLarge Bike Flags will NOT be needed.\nWater will be provided.\n\n\n\nSubmitted By: Byron L Hall \nPosition: Georgia Ride Captain \n\nNote: You do not have to own/ride a motorcycle or be a veteran to join\, and membership is Free. The only requirement is RESPECT! To subscribe to receive mission notices\, log into the National Site and click on the Members tab at the top. Select the Subscribe to PGR Missions option.\n Print This Page
URL:https://www.patriotguard.org/mission/john-b-hubert-iii/
CATEGORIES:Honor Mission
END:VEVENT
END:VCALENDAR