BEGIN:VCALENDAR
VERSION:2.0
PRODID:-//Patriot Guard Riders - ECPv5.3.2.1//NONSGML v1.0//EN
CALSCALE:GREGORIAN
METHOD:PUBLISH
X-WR-CALNAME:Patriot Guard Riders
X-ORIGINAL-URL:https://www.patriotguard.org
X-WR-CALDESC:Events for Patriot Guard Riders
BEGIN:VTIMEZONE
TZID:America/New_York
BEGIN:DAYLIGHT
TZOFFSETFROM:-0500
TZOFFSETTO:-0400
TZNAME:EDT
DTSTART:20190310T070000
END:DAYLIGHT
BEGIN:STANDARD
TZOFFSETFROM:-0400
TZOFFSETTO:-0500
TZNAME:EST
DTSTART:20191103T060000
END:STANDARD
END:VTIMEZONE
BEGIN:VEVENT
DTSTART;VALUE=DATE:20190628
DTEND;VALUE=DATE:20190629
DTSTAMP:20210405T034318
CREATED:20190620T222840Z
LAST-MODIFIED:20190620T222840Z
UID:165386-1561680000-1561766399@www.patriotguard.org
SUMMARY:John Andrews Landry
DESCRIPTION:Honor Mission\nJohn Andrews Landry\, Retired\nUSN – Vietnam\nPensacola\, Florida – 06-28-19\n\n\n\nABOUT THE MISSION: \nIt is with a heavy heart that I must inform you that we have lost a true American hero\, LCDR John Andrews Landry\, age 82. LCDR Landry’s family has graciously invited the Patriot Guard to escort him to his final resting place and stand a silent flag line during military honors.\nLCDR Landry faithfully and honorably served in the United States Navy for over 21 Years and retired on 1 July 1981. He was a Vietnam veteran. His awards include the Air Medal Strike Flight (2)\, Navy Achievement Medal (2)\, National Defense Service Medal\, Armed Forces Expeditionary Medal\, Vietnam Campaign Medal w/2stars\, Vietnamese Gallantry Cross w/Palm\, Vietnam Service Medal w/Bronze Star\, and several unit awards. The Patriot Guard will meet LCDR Landry\, family\, and friends at the Olive Baptist Church\, New Warrington Campus\, 103 W. Winthrop Avenue\, Pensacola and escort them to Barrancas National Cemetery.\n\n\nPRIMARY STAGING DETAILS: 06-28-19 \nStaging Time: 10:45 AM\n \nWhataburger\n1313 New Warrington Rd\nPensacola\, Florida\n\n\nRide Captain: \nRoy W. Pippin\n251 979 7241\nsmokeynal.rp@gmail.com\n\n\nSpecial Instructions: \nNaval Air Station requires long sleeve shirts\, long trousers\, long-fingered gloves\, DOT approved helmets\, leather footwear covering the ankles and appropriate eye protection. This attire will be maintained always while riding aboard the base.\n\n11:30 AM – Briefing for all riders\n11:45 AM – KSU to NAS Pensacola Main Gate\n12:30 AM – Honors Barrancas National Cemetery Site “B”\n\n\nFlags & Water:\nFlags will be provided.\nIf you have large bike flags\, please bring them.\nWater will be provided. \n\n\n\nSubmitted By: Ray Doyle \nPosition: Florida Assistant State Captain \n\nNote: You do not have to own/ride a motorcycle or be a veteran to join\, and membership is Free. The only requirement is RESPECT! To subscribe to receive mission notices\, log into the National Site and click on the Members tab at the top. Select the Subscribe to PGR Missions option.\n Print This Page
URL:https://www.patriotguard.org/mission/john-andrews-landry/
CATEGORIES:Honor Mission
END:VEVENT
END:VCALENDAR