BEGIN:VCALENDAR
VERSION:2.0
PRODID:-//Patriot Guard Riders - ECPv5.3.2.1//NONSGML v1.0//EN
CALSCALE:GREGORIAN
METHOD:PUBLISH
X-WR-CALNAME:Patriot Guard Riders
X-ORIGINAL-URL:https://www.patriotguard.org
X-WR-CALDESC:Events for Patriot Guard Riders
BEGIN:VTIMEZONE
TZID:America/New_York
BEGIN:DAYLIGHT
TZOFFSETFROM:-0500
TZOFFSETTO:-0400
TZNAME:EDT
DTSTART:20190310T070000
END:DAYLIGHT
BEGIN:STANDARD
TZOFFSETFROM:-0400
TZOFFSETTO:-0500
TZNAME:EST
DTSTART:20191103T060000
END:STANDARD
END:VTIMEZONE
BEGIN:VEVENT
DTSTART;VALUE=DATE:20190621
DTEND;VALUE=DATE:20190622
DTSTAMP:20210405T132452
CREATED:20190619T054046Z
LAST-MODIFIED:20190619T054046Z
UID:165180-1561075200-1561161599@www.patriotguard.org
SUMMARY:John Andrew Novak
DESCRIPTION:Honor Mission\nJohn Andrew Novak\, Veteran\nUSA\, USAR –\nSt. Ann\, Missouri – 06-21-19\n\n\n\nABOUT THE MISSION: \nIt is a most distinct honor and a privilege for the Patriot Guard Riders\, at the family’s request\, to stand a flag line for United States Army Veteran John Andrew Novak\, and escort him to his final resting place at Jefferson Barracks National Cemetery for full Military Honors and interment. Veteran Novak served in the U.S. Army Transportation Corps beginning in June 1957\, transferred to the Army reserves in June of 1959 where he served out his reserve obligation. Veteran Novak attained the rank of Private First Class (PFC). Private First Class Novak\, a grateful nation thanks you and is indebted to you for your honorable service. Your sacrifices have granted us the freedoms we continue to enjoy to this very day. Thank you and Godspeed.\n\n\nPRIMARY STAGING DETAILS: 06-21-19 \nStaging Time: 08:00 AM\n \nColliers Funeral Home\n3400 N. Lindbergh Blvd\nSt. Ann\, Missouri 63074\n\n\nRide Captain: \nDan “Lt. Dan” Doerer\n(314) 576-5856\nj_d_doerer2att.net\n\nFlags & Support: Mike “Jenky” Jenkins\n\n\nSpecial Instructions: \nR.E.D. Shirt Friday\nFuneral Home is just south of I-70 at Morrow Drive.\nFrom I-270\, exit 16 Page Avenue/Hwy D east\, Lindbergh Blvd/US-67 north/left to Morrow Drive.\n08:00 AM: Stage\, Ride Meeting and Flag Line\n08:15 AM: Family Arrival\n09:00 AM: Service\n09:45 AM: Escort to Jefferson Barracks Nat. Cemetery (28 miles)\n10:30 AM: Committal Service with Military Honors and interment.\nThe current NWS forecast during this Mission is 72º – 83º\, with a 6% chance of rain.\nCheck weather forecast closer to the mission date…travel and dress accordingly.\nAll vehicles are welcome.\n\n\nFlags & Water:\nFlags will be provided\nIf you have large bike flags\, please bring them.\nWater will be provided.\n\n\n\nSubmitted By: Dan Doerer \nPosition: Missouri Ride Captain \n\nNote: You do not have to own/ride a motorcycle or be a veteran to join\, and membership is Free. The only requirement is RESPECT! To subscribe to receive mission notices\, log into the National Site and click on the Members tab at the top. Select the Subscribe to PGR Missions option.\n Print This Page
URL:https://www.patriotguard.org/mission/john-andrew-novak/
CATEGORIES:Honor Mission
END:VEVENT
END:VCALENDAR