BEGIN:VCALENDAR
VERSION:2.0
PRODID:-//Patriot Guard Riders - ECPv5.3.2.1//NONSGML v1.0//EN
CALSCALE:GREGORIAN
METHOD:PUBLISH
X-WR-CALNAME:Patriot Guard Riders
X-ORIGINAL-URL:https://www.patriotguard.org
X-WR-CALDESC:Events for Patriot Guard Riders
BEGIN:VTIMEZONE
TZID:America/New_York
BEGIN:DAYLIGHT
TZOFFSETFROM:-0500
TZOFFSETTO:-0400
TZNAME:EDT
DTSTART:20170312T070000
END:DAYLIGHT
BEGIN:STANDARD
TZOFFSETFROM:-0400
TZOFFSETTO:-0500
TZNAME:EST
DTSTART:20171105T060000
END:STANDARD
END:VTIMEZONE
BEGIN:VEVENT
DTSTART;TZID=America/New_York:20171102T131500
DTEND;TZID=America/New_York:20171102T151500
DTSTAMP:20210406T024443
CREATED:20171102T171500Z
LAST-MODIFIED:20191201T032108Z
UID:325747-1509628500-1509635700@www.patriotguard.org
SUMMARY:John Albert Zumbrunnen\, Veteran\, USA - Vietnam
DESCRIPTION:John Albert Zumbrunnen\, Veteran\nUSA  – Vietnam\nHolly\, Michigan – 02 Nov 2017\n\n\n[HR][/HR]\nABOUT THE MISSION:\n\n \n\nThe family of John Albert Zumbrunnen\, 70\,  has invited the Patriot Guard Riders to stand in honor of his service to  our country. \nMr. Zumbrunnen served proudly in the U.S. Army\, serving 2  tours in Vietnam and attaining the rank of SPC 5. His Awards and  Commendations are the Vietnam Campaign Medal W o/s Bars\, Vietnam Service  Medal and Marksmen M/14. \nAlbert is survived by his wife Rita\, two sons  and a daughter. \nOBIT: http://www.donelsonjohnsevans.com/ob…ry.aspx?ID=534\n\n\nPRIMARY STAGING DETAILS:  02 Nov 2017\nPrimary Staging Time: 1:15 PM \n\nMcDonald’s\n15187 N. Holly Rd.\nHolly\, Michigan – 48442\nhttps://goo.gl/maps/PHZmJcAF4YG2\n\n\nRide Captain: \n\nSKEETER (586-524-8083)\ncarolp412@att.net\n\n\nSpecial Instructions: \n\nSTAGE:    1:15 PM\nBRIEF:      1:50 PM\nKSU:        2:05 PM \nPlease bring your American Flags to stand in honor of John Zumbrunnen.\n\n\n\nFlags & Water: \n\nFlags Will NOT Be Provided\, Please Bring Your Own.\nLarge Bike Flags will NOT be needed.\nWater WILL NOT be provided\, please bring your own.\n\n \nSubmitted By: Terrence Laurencelle\nPosition: Ride Captain\n[HR][/HR]Note:\n\nYou do not have to own/ride a motorcycle or be a Veteran to join and membership is Free. The only requirement is RESPECT! To join\, simply go to www.PatriotGuard.org and click on Register. Membership is Free. \nTo subscribe to receive mission notices\, log into the National Site and click on the Mission Tab at the top. Select the Subscribe to Missions option.
URL:https://www.patriotguard.org/mission/john-albert-zumbrunnen-veteran-usa-vietnam/
END:VEVENT
END:VCALENDAR