BEGIN:VCALENDAR
VERSION:2.0
PRODID:-//Patriot Guard Riders - ECPv5.3.2.1//NONSGML v1.0//EN
CALSCALE:GREGORIAN
METHOD:PUBLISH
X-WR-CALNAME:Patriot Guard Riders
X-ORIGINAL-URL:https://www.patriotguard.org
X-WR-CALDESC:Events for Patriot Guard Riders
BEGIN:VTIMEZONE
TZID:America/New_York
BEGIN:DAYLIGHT
TZOFFSETFROM:-0500
TZOFFSETTO:-0400
TZNAME:EDT
DTSTART:20190310T070000
END:DAYLIGHT
BEGIN:STANDARD
TZOFFSETFROM:-0400
TZOFFSETTO:-0500
TZNAME:EST
DTSTART:20191103T060000
END:STANDARD
END:VTIMEZONE
BEGIN:VEVENT
DTSTART;VALUE=DATE:20190725
DTEND;VALUE=DATE:20190726
DTSTAMP:20210404T065049
CREATED:20190722T212757Z
LAST-MODIFIED:20190723T012036Z
UID:168510-1564012800-1564099199@www.patriotguard.org
SUMMARY:John A Hoffmann
DESCRIPTION:Honor Mission\nJohn A Hoffmann\nUSMC  \, Vietnam\nMarietta\, Georgia – 07-25-19\n\n\n\n\nABOUT THE MISSION: \nIt is our honor to assemble\, at the family’s request\, and stand a silent flag line to show Honor and Respect to USMC CPL John A Hoffmann at the celebration of his life. In 1968 \,at the height of the Vietnam war DR. Hoffman graduated from Logan College of Chiropractic in Chesterfield\, Missouri\, a suburb of St. Louis\, Missouri Shortly after completing his chiropractic education Dr. Hofmann was drafted into the U.S. Marines. He served one tour of duty in Viet Nam encountering extensive combat and was exposed to warfare-related agents that would ultimately contribute to a decline in his health.\nFollowing an honorable discharge from the Marines\, Dr. Hofmann sought licensure to practice chiropractic in Michigan and in 1972 he established his first office in Allen Park\, Michigan. Upon his retirement from active practice Dr. Hofmann’s son\,  now a chiropractor himself\, assumed the responsibilities of his father’s practice.\nOne of his greatest passions in life apart from his family\, was Life Chiropractic College which he helped found in 1974 in Marietta\, Georgia. He offered his time\, treasure and talent to see the College grow into Life University and went on to serve as a senior adviser to every president of Life University. Along the way\, he had the pleasure of seeing his daughter\,  and his son\, earn their Doctor of Chiropractic (D.C.) degrees from the institution he worked so hard to establish.\nDr. John Hofmann\, the chiropractor and John Hofmann\, the U.S. Marine were never far apart. The ethos of the Marine Corps\, Semper Fidelis\, always faithful\, was with him throughout his entire adult life.\nThe above text comes from the Woodstock Funeral Home obituary which can be  read here.\nPlease see below for special\, specific instructions.\n\n\nPRIMARY STAGING DETAILS: 07-25-19 \nStaging Time: 09:15  \nLife University’s Campus\nParking Lot “M” is for PGR\n1269 Barclay Circle\,\nMarietta\, Georgia 30060\nCampus Map\n\n\nRide Captain: \nTom “Knobby” Walsh\npartiotguardrider.tom@gmail.com\n770-605-6903\n\n\nSpecial Instructions: \nThis will be a flag line only with the flag line set p in two different locations. Please pay attention to the instructions printed here and to the directions of the Ride Captain on site.Park at parking lot “M” as shown on this  Campus Map.\nWe will have a briefing and set the flag line at Building #23 in the entryway.We will stand until the service begins at 11:00 AM\,We will move the flag line to the Peace Pole Garden in Lyceum Park marked as #5  where Taps will be played and the flag folded and presented to the family. All of the people attending the service are invited to move to Peace Pole Garden to witness Honors.\n\nFlags & Water:\nFlags will be provided\nLarge Bike Flags will NOT be needed.\nWater will be provided.\n\n\n\nSubmitted By: Tom Walsh \nPosition: Georgia Ride Captain \n\nNote: You do not have to own/ride a motorcycle or be a veteran to join\, and membership is Free. The only requirement is RESPECT! To subscribe to receive mission notices\, log into the National Site and click on the Members tab at the top. Select the Subscribe to PGR Missions option.\n Print This Page
URL:https://www.patriotguard.org/mission/john-a-hoffmann/
CATEGORIES:Honor Mission
END:VEVENT
END:VCALENDAR