BEGIN:VCALENDAR
VERSION:2.0
PRODID:-//Patriot Guard Riders - ECPv5.6.0//NONSGML v1.0//EN
CALSCALE:GREGORIAN
METHOD:PUBLISH
X-WR-CALNAME:Patriot Guard Riders
X-ORIGINAL-URL:https://www.patriotguard.org
X-WR-CALDESC:Events for Patriot Guard Riders
BEGIN:VTIMEZONE
TZID:America/New_York
BEGIN:DAYLIGHT
TZOFFSETFROM:-0500
TZOFFSETTO:-0400
TZNAME:EDT
DTSTART:20160313T070000
END:DAYLIGHT
BEGIN:STANDARD
TZOFFSETFROM:-0400
TZOFFSETTO:-0500
TZNAME:EST
DTSTART:20161106T060000
END:STANDARD
END:VTIMEZONE
BEGIN:VEVENT
DTSTART;TZID=America/New_York:20160720T090000
DTEND;TZID=America/New_York:20160720T110000
DTSTAMP:20210512T130309
CREATED:20160720T130000Z
LAST-MODIFIED:20191201T144248Z
UID:410530-1469005200-1469012400@www.patriotguard.org
SUMMARY:Joe Kirk\, USA Veteran
DESCRIPTION:The family of Joe Kirk USA/ LEO Veteran have asked the Patriot Guard Riders to stand a Flag Line at his Funeral Service to be held on Wednesday 20 July 2016 in Durant\, OK. Services will be held at Brown’s Funeral Chapel 4900 W. US Hwy 70 Durant\, OK at 10:00am. We will escort the hero to Bennington Cemetery for interment. Military Honor Guard has been requested but Patriot Guard Riders need to be prepared to do Honors. \nDate: Wednesday 20 July 2016  \nStaging: 8:30 am\nBrown’s Funeral Home\n4900 W. US Hwy 70\nDurant\, Ok \nMANDATORY BRIEFING: 9:15 am\nYOU MUST ATTEND THE BRIEFING TO RIDE IN THE ESCORT. \nFLAG LINE: 9:30 am  \nWEATHER: Temp Low 75 High 97 Please dress accordingly Hydrate Hydrate \nRCIC:\nJamie “Bloodhound” St. Clair\n580-380-1443\nacornerd@cherokeetel.com
URL:https://www.patriotguard.org/mission/joe-kirk-usa-veteran/
CATEGORIES:Archive
END:VEVENT
END:VCALENDAR