BEGIN:VCALENDAR
VERSION:2.0
PRODID:-//Patriot Guard Riders - ECPv5.3.2.1//NONSGML v1.0//EN
CALSCALE:GREGORIAN
METHOD:PUBLISH
X-WR-CALNAME:Patriot Guard Riders
X-ORIGINAL-URL:https://www.patriotguard.org
X-WR-CALDESC:Events for Patriot Guard Riders
BEGIN:VTIMEZONE
TZID:America/New_York
BEGIN:DAYLIGHT
TZOFFSETFROM:-0500
TZOFFSETTO:-0400
TZNAME:EDT
DTSTART:20170312T070000
END:DAYLIGHT
BEGIN:STANDARD
TZOFFSETFROM:-0400
TZOFFSETTO:-0500
TZNAME:EST
DTSTART:20171105T060000
END:STANDARD
END:VTIMEZONE
BEGIN:VEVENT
DTSTART;TZID=America/New_York:20170822T124500
DTEND;TZID=America/New_York:20170822T144500
DTSTAMP:20210403T080201
CREATED:20170822T164500Z
LAST-MODIFIED:20191201T034151Z
UID:340620-1503405900-1503413100@www.patriotguard.org
SUMMARY:Joe Elem Carrel\, Retired\, Veteran\, USN\, USAF - WWII
DESCRIPTION:Joe Elem Carrel\, Retired\, Veteran\nUSN\, USAF  – WWII\nMULTI-CITY\, Oklahoma – 22 Aug 2017\n\n\n[HR][/HR]\nABOUT THE MISSION: \n\nHero Joe Carrel dropped out of high school and joined the Navy  in 1942.  He served in the South Pacific during WW II.  Joe joined Air Force after  the war and retired in1963. \nWe will stand a flag line at his services and escort to cemetery for interment.\n \n\nPRIMARY STAGING DETAILS:  22 Aug 2017\nPrimary Staging Time: 12:45 P.M. \n\nFirst Baptist Church\n1650 N. Main St.\nNewcastle\, Oklahoma – 73065\n\n\nRide Captain: \n\nRoger (Superman) Ayers\n405-543-5215\nrayers1950@gmail.com\n\n\nSpecial Instructions: \n\nBriefing: at 1:00 pm\nFlag line: at 1:30 pm\nEscort: after services to Blanchard Cemetery\, Blanchard\, OK. 73010\n\n\nFlags & Water: \n\nFlags Will Be Provided\nIf you have large bike flags\, please bring them.\nWater WILL NOT be provided\, please bring your own.\n\n\nSubmitted By: Roger Ayers\nPosition: Ride Captain\n[HR][/HR]Note:\nYou do not have to own/ride a motorcycle or be a Veteran to join and membership is Free. The only requirement is RESPECT! To join\, simply go to www.PatriotGuard.org and click on Register. Membership is Free. \nTo subscribe to receive mission notices\, log into the National Site and click on the Mission Tab at the top. Select the Subscribe to Missions option.
URL:https://www.patriotguard.org/mission/joe-elem-carrel-retired-veteran-usn-usaf-wwii/
LOCATION:William Edward “Billy” Friese
END:VEVENT
END:VCALENDAR