BEGIN:VCALENDAR
VERSION:2.0
PRODID:-//Patriot Guard Riders - ECPv5.3.2.1//NONSGML v1.0//EN
CALSCALE:GREGORIAN
METHOD:PUBLISH
X-WR-CALNAME:Patriot Guard Riders
X-ORIGINAL-URL:https://www.patriotguard.org
X-WR-CALDESC:Events for Patriot Guard Riders
BEGIN:VTIMEZONE
TZID:America/New_York
BEGIN:DAYLIGHT
TZOFFSETFROM:-0500
TZOFFSETTO:-0400
TZNAME:EDT
DTSTART:20190310T070000
END:DAYLIGHT
BEGIN:STANDARD
TZOFFSETFROM:-0400
TZOFFSETTO:-0500
TZNAME:EST
DTSTART:20191103T060000
END:STANDARD
END:VTIMEZONE
BEGIN:VEVENT
DTSTART;VALUE=DATE:20190921
DTEND;VALUE=DATE:20190922
DTSTAMP:20210401T092400
CREATED:20190919T035416Z
LAST-MODIFIED:20190919T035858Z
UID:175303-1569024000-1569110399@www.patriotguard.org
SUMMARY:Joe Carreathers
DESCRIPTION:Honor Mission\nJoe Carreathers\, Veteran\nUSN –\nClarksville\, Texas – 09-21-19\n\n\n\nABOUT THE MISSION: \nMr. Joe Houston Carreathers was born to George W. and Carrie Sims Carreathers in Clarksville\, Texas. Joe was a graduate of Clarksville High School. He enlisted in the United States Navy in 1972. He served on the USS TRUXTON.\nObituary\n\n\nPRIMARY STAGING DETAILS: 09-21-19 \nStaging Time: 09:45 AM\n \nZion Travelers Baptist Church\n501 S. Walnut Street\nClarksville\, Texas 75426\nMap\n\n\nRide Captain: \nMike Moses\n940-368-3132\nmmoses@wildblue.net\n\n\nSpecial Instructions: \nZion Travelers Baptist Church from 9:45 AM to 10:00 AM with a riders meeting at 10:00 AM.\nPlease remain flexible as to the requirements of the mission.\nFLAG LINE ONLY(SEMPER GUMBY)\n\n\nFlags & Water:\nFlags will be provided\nLarge Bike Flags will NOT be needed.\nWater will be provided.\n\n\n\nSubmitted By: Michael Eubank \nPosition: Texas Deputy State Captain \n\nNote: You do not have to own/ride a motorcycle or be a veteran to join\, and membership is Free. The only requirement is RESPECT! To subscribe to receive mission notices\, log into the National Site and click on the Members tab at the top. Select the Subscribe to PGR Missions option.\n Print This Page
URL:https://www.patriotguard.org/mission/joe-carreathers/
CATEGORIES:Honor Mission
END:VEVENT
END:VCALENDAR