BEGIN:VCALENDAR
VERSION:2.0
PRODID:-//Patriot Guard Riders - ECPv5.3.2.1//NONSGML v1.0//EN
CALSCALE:GREGORIAN
METHOD:PUBLISH
X-WR-CALNAME:Patriot Guard Riders
X-ORIGINAL-URL:https://www.patriotguard.org
X-WR-CALDESC:Events for Patriot Guard Riders
BEGIN:VTIMEZONE
TZID:America/New_York
BEGIN:DAYLIGHT
TZOFFSETFROM:-0500
TZOFFSETTO:-0400
TZNAME:EDT
DTSTART:20190310T070000
END:DAYLIGHT
BEGIN:STANDARD
TZOFFSETFROM:-0400
TZOFFSETTO:-0500
TZNAME:EST
DTSTART:20191103T060000
END:STANDARD
END:VTIMEZONE
BEGIN:VEVENT
DTSTART;VALUE=DATE:20190718
DTEND;VALUE=DATE:20190720
DTSTAMP:20210403T185836
CREATED:20190716T235037Z
LAST-MODIFIED:20190716T235319Z
UID:167833-1563408000-1563580799@www.patriotguard.org
SUMMARY:Joe A. Brenzel
DESCRIPTION:Honor Mission\nJoe A. Brenzel\, Veteran\nUSN –\nLouisville\, Kentucky – 07-18-19\n\n\n\n\nABOUT THE MISSION: \n Joe Brenzel a US Navy Veteran to stand a flag line and escort this Veteran. He was also a Patriot Guard Rider.\n\n\nPRIMARY STAGING DETAILS: 07-18-19 \nStaging Time: 12:45 pm  \nRattermans Funeral Home\n3800 Old Bardstown Rd\nLouisville\, Kentucky 40218\n\n\nRide Captain: \nDavid Ballard\n502-249-0011\n\n\nSpecial Instructions: \nVisitation starts at 1:00 pm till 6:00 pm\n\nFlags & Water:\nFlags will be provided\nLarge Bike Flags will NOT be needed.\nWater WILL NOT be provided\, please bring your own.\n\nSTAGING #2 DETAILS: 07-19-19 \nStaging Time: 11 am  \nRattermans Funeral Home\n3800 Old Bardstown RD\nLouisville\, Kentucky 40218\n\n\nRide Captain: \nDavid Ballard\n502-249-0011\n\n\nSpecial Instructions: \nEscort will leave Rattermans Funeral Home at 11:30 to arrive at Kentucky Veterans Cemetery Central 1:00 pm for service.\n\nFlags & Water:\nFlags will be provided\nIf you have large bike flags\, please bring them.\nWater WILL NOT be provided\, please bring your own.\n\n\n\nSubmitted By: Thomas Baker \nPosition: Kentucky Ride Captain \n\nNote: You do not have to own/ride a motorcycle or be a veteran to join\, and membership is Free. The only requirement is RESPECT! To subscribe to receive mission notices\, log into the National Site and click on the Members tab at the top. Select the Subscribe to PGR Missions option.\n Print This Page
URL:https://www.patriotguard.org/mission/joe-a-brenzel/
CATEGORIES:Honor Mission
END:VEVENT
END:VCALENDAR