BEGIN:VCALENDAR
VERSION:2.0
PRODID:-//Patriot Guard Riders - ECPv5.3.2.1//NONSGML v1.0//EN
CALSCALE:GREGORIAN
METHOD:PUBLISH
X-WR-CALNAME:Patriot Guard Riders
X-ORIGINAL-URL:https://www.patriotguard.org
X-WR-CALDESC:Events for Patriot Guard Riders
BEGIN:VTIMEZONE
TZID:America/New_York
BEGIN:DAYLIGHT
TZOFFSETFROM:-0500
TZOFFSETTO:-0400
TZNAME:EDT
DTSTART:20190310T070000
END:DAYLIGHT
BEGIN:STANDARD
TZOFFSETFROM:-0400
TZOFFSETTO:-0500
TZNAME:EST
DTSTART:20191103T060000
END:STANDARD
END:VTIMEZONE
BEGIN:VEVENT
DTSTART;VALUE=DATE:20190710
DTEND;VALUE=DATE:20190711
DTSTAMP:20210404T070955
CREATED:20190709T220546Z
LAST-MODIFIED:20190709T225542Z
UID:167178-1562716800-1562803199@www.patriotguard.org
SUMMARY:Joaquin “Keenie” Joe Gutierrez
DESCRIPTION:Honor Mission\nJoaquin “Keenie” Joe Gutierrez\, Veteran\nUSN\nPortland\, Oregon – 07-10-19\n\n\n\nABOUT THE MISSION: \nLadies and Gentlemen of the Patriot Guard Riders\, we have been invited to stand for Joaquin “Keenie” Joe Gutierrez\, age 55. Keenie served in the US Navy from 14 November 1969 to 19 January 1971 on the USS Cleveland (LPD-7). He was Honorably Discharged at the Rate of Seaman Recruit (E1). He earned the National Defense Service Medal. Please join us as we pay our respects and honor his service to our nation.\n\n\nPRIMARY STAGING DETAILS: 07-10-19 \nStaging Time: 1:30 PM\n \nWillamette National Cemetery\n11800 SE Mt Scott Blv\nPortland\, Oregon 97086\n\n\nRide Captain: \nBlue Bickford\ndrbluepsu@gmail.com\n\n\nSpecial Instructions: \nBriefing: 1:50 pm\nKSU: 2:00 pm\nFlagline Set: 2:15 pm\nService Begins: 2:30 pm\n\nMeet up top at the Rostrum by the flagpole. Please enter the cemetery through Gate 1 or 3 as the normal gate is under construction.\n*** There will be an RHG if possible ***\n\n\nFlags & Water:\nFlags will not be provided\nIf you have large bike flags\, please bring them.\nWater WILL NOT be provided\, please bring your own.\n\nSubmitted By: John Hanan II \nPosition: Oregon State Captain \n\nNote: You do not have to own/ride a motorcycle or be a veteran to join\, and membership is Free. The only requirement is RESPECT! To subscribe to receive mission notices\, log into the National Site and click on the Members tab at the top. Select the Subscribe to PGR Missions option.\n Print This Page
URL:https://www.patriotguard.org/mission/joaquin-keenie-joe-gutierrez/
CATEGORIES:Honor Mission
END:VEVENT
END:VCALENDAR