BEGIN:VCALENDAR
VERSION:2.0
PRODID:-//Patriot Guard Riders - ECPv5.3.2.1//NONSGML v1.0//EN
CALSCALE:GREGORIAN
METHOD:PUBLISH
X-WR-CALNAME:Patriot Guard Riders
X-ORIGINAL-URL:https://www.patriotguard.org
X-WR-CALDESC:Events for Patriot Guard Riders
BEGIN:VTIMEZONE
TZID:America/New_York
BEGIN:DAYLIGHT
TZOFFSETFROM:-0500
TZOFFSETTO:-0400
TZNAME:EDT
DTSTART:20190310T070000
END:DAYLIGHT
BEGIN:STANDARD
TZOFFSETFROM:-0400
TZOFFSETTO:-0500
TZNAME:EST
DTSTART:20191103T060000
END:STANDARD
END:VTIMEZONE
BEGIN:VEVENT
DTSTART;VALUE=DATE:20190925
DTEND;VALUE=DATE:20190926
DTSTAMP:20210401T072734
CREATED:20190923T134746Z
LAST-MODIFIED:20190923T134746Z
UID:175935-1569369600-1569455999@www.patriotguard.org
SUMMARY:Jimmy R. Smith
DESCRIPTION:Honor Mission\nJimmy R. Smith\, Veteran\nUSA – Vietnam\nBloomfield\, Missouri – 09-25-19\n\n\n\n\nABOUT THE MISSION: \nThe family of US Army Vietnam Veteran E-4 Jimmy R. Smith (70) has requested the Patriot Guard Riders for the final mission of their loved one.  Mr. Smith served his country from 1969-1975.  The PGR will stand a flag line during his interment at Missouri State Veterans Cemetery.  There is NO ESCORT for this Mission.\n\n\nPRIMARY STAGING DETAILS: 09-25-19 \nStaging Time: 12:30 PM\n \nMissouri State Veterans Cemetery\n17357 Stars and Stripes Way\nBloomfield\, Missouri 63825\n\n\nRide Captain: \nDave “Rebel” Beck\ndbeck59110@aol.com\n314-330-6974\nFlag Support:  Russ & Sandy Milllion\n\n\nSpecial Instructions: \n         This is a flag line only.  No Escort. Weather: 80 degrees with 50% chance of thunderstorms.                    Dress and travel accordingly.  Hydrate before and during mission.  Cages are always welcome.\n \n\n\nFlags & Water:\nFlags will be provided\nLarge Bike Flags will NOT be needed.\nWater will be provided.\n\n\n\nSubmitted By: Dave Beck \nPosition: Missouri Assistant State Captain \n\nNote: You do not have to own/ride a motorcycle or be a veteran to join\, and membership is Free. The only requirement is RESPECT! To subscribe to receive mission notices\, log into the National Site and click on the Members tab at the top. Select the Subscribe to PGR Missions option.\n Print This Page
URL:https://www.patriotguard.org/mission/jimmy-r-smith/
CATEGORIES:Honor Mission
END:VEVENT
END:VCALENDAR