BEGIN:VCALENDAR
VERSION:2.0
PRODID:-//Patriot Guard Riders - ECPv5.6.0//NONSGML v1.0//EN
CALSCALE:GREGORIAN
METHOD:PUBLISH
X-WR-CALNAME:Patriot Guard Riders
X-ORIGINAL-URL:https://www.patriotguard.org
X-WR-CALDESC:Events for Patriot Guard Riders
BEGIN:VTIMEZONE
TZID:America/New_York
BEGIN:DAYLIGHT
TZOFFSETFROM:-0500
TZOFFSETTO:-0400
TZNAME:EDT
DTSTART:20210314T070000
END:DAYLIGHT
BEGIN:STANDARD
TZOFFSETFROM:-0400
TZOFFSETTO:-0500
TZNAME:EST
DTSTART:20211107T060000
END:STANDARD
END:VTIMEZONE
BEGIN:VEVENT
DTSTART;VALUE=DATE:20210511
DTEND;VALUE=DATE:20210512
DTSTAMP:20210511T123834
CREATED:20210509T162227Z
LAST-MODIFIED:20210509T162227Z
UID:576833-1620691200-1620777599@www.patriotguard.org
SUMMARY:Jimmy J. Munro
DESCRIPTION:Honor Mission\nJimmy J. Munro\, Veteran\nUSAF – Korea\nSt. Louis\, Missouri – 05-11-21\n\n\n\nABOUT THE MISSION: \nIt is a most distinct honor and a privilege for the Patriot Guard Riders to stand a flag line of honor and respect for Veteran Jimmy J. Munro\, 89\, during his committal service at Jefferson Barracks National Cemetery. Mr. Munro served in the Air Force during the Korean Conflict. Hero Munro\, a grateful nation thanks you and is indebted to you for your honorable service. Your sacrifices have granted us the freedoms we continue to enjoy to this very day. Thank you and Godspeed.\n\n\nPRIMARY STAGING DETAILS: 05-11-21 \nStaging Time: 10:00 AM\n \nJefferson Barracks National Cemetery\n2900 Sheridan Road\nSt. Louis\, Missouri 63125\n\n\nRide Captain: \nJim “(1) Gun-Shy” Kleszczewski\n314-956-6899\njimkl2112@gmail.com\n\n\nSpecial Instructions: \n10:00 AM – Ride meeting\n10:15 AM – Family Arrival\n10:30 AM – Committal Service and Military Honors.\nWe will practice social distancing. If you are not feeling well on the day of the mission\, please stay home and pay your distant respects.\nFace masks are required inside the at JBNC. Please remember to hydrate.\nCages always welcome!\n\n\nFlags & Water:\nFlags will be provided\nLarge Bike Flags will NOT be needed.\nWater will be provided.\n\n\nSubmitted By: Jim Kleszczewski \nPosition: Missouri Ride Captain \n\nNote: You do not have to own/ride a motorcycle or be a veteran to join\, and membership is Free. The only requirement is RESPECT! To subscribe to receive mission notices\, log into the National Site and click on the Members tab at the top. Select the Subscribe to PGR Missions option.\n Print This Page
URL:https://www.patriotguard.org/mission/jimmy-j-munro/
CATEGORIES:Honor Mission
END:VEVENT
END:VCALENDAR