BEGIN:VCALENDAR
VERSION:2.0
PRODID:-//Patriot Guard Riders - ECPv5.3.2.1//NONSGML v1.0//EN
CALSCALE:GREGORIAN
METHOD:PUBLISH
X-WR-CALNAME:Patriot Guard Riders
X-ORIGINAL-URL:https://www.patriotguard.org
X-WR-CALDESC:Events for Patriot Guard Riders
BEGIN:VTIMEZONE
TZID:America/New_York
BEGIN:DAYLIGHT
TZOFFSETFROM:-0500
TZOFFSETTO:-0400
TZNAME:EDT
DTSTART:20190310T070000
END:DAYLIGHT
BEGIN:STANDARD
TZOFFSETFROM:-0400
TZOFFSETTO:-0500
TZNAME:EST
DTSTART:20191103T060000
END:STANDARD
END:VTIMEZONE
BEGIN:VEVENT
DTSTART;VALUE=DATE:20190712
DTEND;VALUE=DATE:20190713
DTSTAMP:20210404T050849
CREATED:20190710T150131Z
LAST-MODIFIED:20190710T150131Z
UID:167149-1562889600-1562975999@www.patriotguard.org
SUMMARY:Jimmy Bruce Hall
DESCRIPTION:Honor Mission\nJimmy Bruce Hall\, Retired\nUSAF –\nGulfport\, Mississippi – 07-12-19\n\n\n\nABOUT THE MISSION: \nWe are sad to report the death of US Air Force Retired MSgt Jimmy Bruce Hall (80). Mr Hall was awarded the Air Force Longevity Service Award w/4olc and the Meritorious Service Medal. The family of Mr. Hall has requested the Patriot Guard Riders help honor and pay respect for his service to our country. Escorting to Biloxi National Cemetery for 10 am service.\n\n\nPRIMARY STAGING DETAILS: 07-12-19 \nStaging Time: 09:00 AM\n \nNew Hope Baptist Church\n17439 Landon Road\nGulfport\, Mississippi 39503\n\n\nRide Captain: \nSteve Stovall\n573-619-5147\n\n\nSpecial Instructions: \n\n\nFlags & Water:\nFlags will not be provided\nIf you have large bike flags\, please bring them.\nWater WILL NOT be provided\, please bring your own.\n\n\n\nSubmitted By: Sandie Schlett \nPosition: Mississippi Assistant State Captain \n\nNote: You do not have to own/ride a motorcycle or be a veteran to join\, and membership is Free. The only requirement is RESPECT! To subscribe to receive mission notices\, log into the National Site and click on the Members tab at the top. Select the Subscribe to PGR Missions option.\n Print This Page
URL:https://www.patriotguard.org/mission/jimmy-bruce-hall/
CATEGORIES:Honor Mission
END:VEVENT
END:VCALENDAR