BEGIN:VCALENDAR
VERSION:2.0
PRODID:-//Patriot Guard Riders - ECPv5.3.2.1//NONSGML v1.0//EN
CALSCALE:GREGORIAN
METHOD:PUBLISH
X-WR-CALNAME:Patriot Guard Riders
X-ORIGINAL-URL:https://www.patriotguard.org
X-WR-CALDESC:Events for Patriot Guard Riders
BEGIN:VTIMEZONE
TZID:America/New_York
BEGIN:DAYLIGHT
TZOFFSETFROM:-0500
TZOFFSETTO:-0400
TZNAME:EDT
DTSTART:20190310T070000
END:DAYLIGHT
BEGIN:STANDARD
TZOFFSETFROM:-0400
TZOFFSETTO:-0500
TZNAME:EST
DTSTART:20191103T060000
END:STANDARD
END:VTIMEZONE
BEGIN:VEVENT
DTSTART;VALUE=DATE:20190806
DTEND;VALUE=DATE:20190807
DTSTAMP:20210402T120431
CREATED:20190806T023238Z
LAST-MODIFIED:20190806T023238Z
UID:169835-1565049600-1565135999@www.patriotguard.org
SUMMARY:Jimmy Beach
DESCRIPTION:Honor Mission\nJimmy Beach \, Veteran\nUSA – Vietnam\nClinton\, South Carolina – 08-06-19\n\n\n\n\nABOUT THE MISSION: \nMr. Jimmy Beach\, veteran of the Vietnam War\, passed away on Saturday. His family has requested that Patriot Guard Riders be a part of his services on Tuesday. He went to Nam for us. We will  honor the request if at all possible.\n\n\nPRIMARY STAGING DETAILS: 08-06-19 \nStaging Time: 4:15  \nPinelawn Memory Gardens Mausoleum\n28868 US 76\nClinton\, South Carolina 29325\nMAP\n\n\nRide Captain: \nSteamRandy\nStevenssteam@patriotguard.org\n864-344-6002\n\n\nSpecial Instructions: \nFlag Line only. After briefing at 4;30 pm we will form a flag line outside the mausoleum until service begins at 5;30 pm. We will then depart as quietly as possible.\n\nFlags & Water:\nFlags will be provided\nLarge Bike Flags will NOT be needed.\nWater will be provided.\n\n\n\nSubmitted By: Randy Stevens \nPosition: South Carolina Assistant State Captain \n\nNote: You do not have to own/ride a motorcycle or be a veteran to join\, and membership is Free. The only requirement is RESPECT! To subscribe to receive mission notices\, log into the National Site and click on the Members tab at the top. Select the Subscribe to PGR Missions option.\n Print This Page
URL:https://www.patriotguard.org/mission/jimmy-beach/
CATEGORIES:Honor Mission
END:VEVENT
END:VCALENDAR