BEGIN:VCALENDAR
VERSION:2.0
PRODID:-//Patriot Guard Riders - ECPv5.3.2.1//NONSGML v1.0//EN
CALSCALE:GREGORIAN
METHOD:PUBLISH
X-WR-CALNAME:Patriot Guard Riders
X-ORIGINAL-URL:https://www.patriotguard.org
X-WR-CALDESC:Events for Patriot Guard Riders
BEGIN:VTIMEZONE
TZID:America/New_York
BEGIN:DAYLIGHT
TZOFFSETFROM:-0500
TZOFFSETTO:-0400
TZNAME:EDT
DTSTART:20210314T070000
END:DAYLIGHT
BEGIN:STANDARD
TZOFFSETFROM:-0400
TZOFFSETTO:-0500
TZNAME:EST
DTSTART:20211107T060000
END:STANDARD
END:VTIMEZONE
BEGIN:VEVENT
DTSTART;VALUE=DATE:20210403
DTEND;VALUE=DATE:20210404
DTSTAMP:20210404T082020
CREATED:20210401T044747Z
LAST-MODIFIED:20210401T044747Z
UID:573476-1617408000-1617494399@www.patriotguard.org
SUMMARY:Jimmie D. Mains
DESCRIPTION:Memorial\nJimmie D. Mains\, Retired\, Veteran\nUSA\, USN – WWII\, Korea\, Vietnam\nAnniston\, Alabama – 04-03-21\n\n\n\nABOUT THE MISSION: \nRet SGM Mains passed away last year. Due to the Covid situation his Memorial Service was put off. This Saturday the family has asked the PRG to stand a flag line for his overdue Memorial Service. SGM Mains served 3 years in the US Navy and 18 years in the US Army. It’s our turn to stand for him.\n\n\nPRIMARY STAGING DETAILS: 04-03-21 \nStaging Time: 2:00 PM\n \nEdgewood Congregational Methodist Church\n2700 Brighton Ave\nAnniston\, Alabama 36207\n\n\nRide Captain: \nJohn “JB” Burke\n205-936-2317\nShadow04@ymail.com\n\n\nSpecial Instructions: \nWe will place unmanned flags and prepare a flag line for family arrival.\n\n\nFlags & Water:\nFlags will be provided\nLarge Bike Flags will NOT be needed.\nWater WILL NOT be provided\, please bring your own.\n\n\nSubmitted By: John Burke \nPosition: Alabama Assistant State Captain \n\nNote: You do not have to own/ride a motorcycle or be a veteran to join\, and membership is Free. The only requirement is RESPECT! To subscribe to receive mission notices\, log into the National Site and click on the Members tab at the top. Select the Subscribe to PGR Missions option.\n Print This Page
URL:https://www.patriotguard.org/mission/jimmie-d-mains/
CATEGORIES:Memorial
END:VEVENT
END:VCALENDAR