BEGIN:VCALENDAR
VERSION:2.0
PRODID:-//Patriot Guard Riders - ECPv5.3.2.1//NONSGML v1.0//EN
CALSCALE:GREGORIAN
METHOD:PUBLISH
X-WR-CALNAME:Patriot Guard Riders
X-ORIGINAL-URL:https://www.patriotguard.org
X-WR-CALDESC:Events for Patriot Guard Riders
BEGIN:VTIMEZONE
TZID:America/New_York
BEGIN:DAYLIGHT
TZOFFSETFROM:-0500
TZOFFSETTO:-0400
TZNAME:EDT
DTSTART:20190310T070000
END:DAYLIGHT
BEGIN:STANDARD
TZOFFSETFROM:-0400
TZOFFSETTO:-0500
TZNAME:EST
DTSTART:20191103T060000
END:STANDARD
END:VTIMEZONE
BEGIN:VEVENT
DTSTART;VALUE=DATE:20190928
DTEND;VALUE=DATE:20190929
DTSTAMP:20210401T084126
CREATED:20190925T133634Z
LAST-MODIFIED:20190925T133634Z
UID:176485-1569628800-1569715199@www.patriotguard.org
SUMMARY:Jim Haile
DESCRIPTION:Honor Mission\nJim Haile\, Veteran\nUSN\, USNR – Vietnam\nKansas City\, Missouri – 09-28-19\n\n\n\n\nABOUT THE MISSION: \nThe Family of Jim Haile has invited the PGR to stand a flag line at his visitation and funeral.  Mr Haile was an aircraft mechanic who loved his country and was honored to serve. This a flag line only and honors will be outside the chapel.\n\n\nPRIMARY STAGING DETAILS: 09-28-19 \nStaging Time: 10:30 am\n \nTerrace Park Funeral Home\n108th Street\nKansas City\, MO 64155 \n\n\n\nRide Captain: \nRon”Max”Maki\n816-718-5082\n\n\nSpecial Instructions: \nStaging – 10:30 am\nFlagline – 11:00 am\nFuneral – 12:00 pm\nHonors – 12:45 pm\n\nFlags & Water:\nFlags will be provided\nLarge Bike Flags will NOT be needed.\nWater WILL NOT be provided\, please bring your own.\n\n\n\n\nSubmitted By: Ron Maki \nPosition: Missouri Ride Captain \n\nNote: You do not have to own/ride a motorcycle or be a veteran to join\, and membership is Free. The only requirement is RESPECT! To subscribe to receive mission notices\, log into the National Site and click on the Members tab at the top. Select the Subscribe to PGR Missions option.\n Print This Page
URL:https://www.patriotguard.org/mission/jim-haile/
CATEGORIES:Honor Mission
END:VEVENT
END:VCALENDAR