BEGIN:VCALENDAR
VERSION:2.0
PRODID:-//Patriot Guard Riders - ECPv5.6.0//NONSGML v1.0//EN
CALSCALE:GREGORIAN
METHOD:PUBLISH
X-WR-CALNAME:Patriot Guard Riders
X-ORIGINAL-URL:https://www.patriotguard.org
X-WR-CALDESC:Events for Patriot Guard Riders
BEGIN:VTIMEZONE
TZID:America/New_York
BEGIN:DAYLIGHT
TZOFFSETFROM:-0500
TZOFFSETTO:-0400
TZNAME:EDT
DTSTART:20160313T070000
END:DAYLIGHT
BEGIN:STANDARD
TZOFFSETFROM:-0400
TZOFFSETTO:-0500
TZNAME:EST
DTSTART:20161106T060000
END:STANDARD
END:VTIMEZONE
BEGIN:VEVENT
DTSTART;TZID=America/New_York:20160730T090000
DTEND;TZID=America/New_York:20160730T110000
DTSTAMP:20210512T165356
CREATED:20160730T130000Z
LAST-MODIFIED:20191201T143935Z
UID:410236-1469869200-1469876400@www.patriotguard.org
SUMMARY:Jim E. Underwood\, USMC - Vietnam
DESCRIPTION:Patriot’s Name:      Jim Edd Underwood\nMilitary Branch:- United States Marine Corps\nFirst Responder:\n– Police Department\n– Sheriff’s Department \nClassification:  Veteran\nAdditional Military Info:  Vietnam Veteran \nLink To Obituary:\nhttp://www.jekeevermortuary.com/home/index.cfm/obituaries/view/fh_id/13137/i\nd/3824533 \nMission Ride Captain:\nRick Crabb\, randjcrabb@juno.com\, (910) 330-9861 \nMission Summary:\nWe have been invited by the family of Jim Edd Underwood to participate in the celebration of his life by standing a Flag Line at his funeral service\, ride with him one last time\, and stand again at his committal. \nPART 1:  Flag Line at funeral service followed by procession to the cemetery\nMission Date:  Jul 30\, 2016 – Saturday\nStaging Time:  08:00\nBriefing Time:  08:15\nIn Position Time Or KSU:  08:30\nService Start Time:  09:00 \nDetails Of Part 1:\nAfter the Mission Briefing\, the Riders will stand the Flag Line to receive the family and guests of Mr. Underwood. When the funeral service begins\, the flags will be returned the support vehicle\, the Riders will receive the safety briefing and prepare to ride in the procession to the funeral home.  Riders not participating in the procession may proceed directly to the cemetery \nName Of Staging Point:\nKeever Mortuary and Funeral Home\n408 N. Dallas St.\nEnnis\, Texas 75119\n\nPART 2:  Flag Line at Interment Ceremony\nMission Date:  Jul 30\, 2016 – Saturday\nStaging Time:  09:30\nBriefing Time:  09:45\nIn Position Time Or KSU:  10:00\nService Start Time:  10:15 \nDetails Of Part 2:\nAfter the Mission Brief\, the Riders will establish the Flag Line and prepare to receive the family and friends of Mr. Underwood. When directed\, the Riders will return the flags to the support vehicle\, be debriefed and dismissed\n\nName Of Staging Point:\nFlag Line at Interment Ceremony\n4768 FM 984\nEnnis\, Texas 75119
URL:https://www.patriotguard.org/mission/jim-e-underwood-usmc-vietnam/
CATEGORIES:Archive
END:VEVENT
END:VCALENDAR