BEGIN:VCALENDAR
VERSION:2.0
PRODID:-//Patriot Guard Riders - ECPv5.6.0//NONSGML v1.0//EN
CALSCALE:GREGORIAN
METHOD:PUBLISH
X-WR-CALNAME:Patriot Guard Riders
X-ORIGINAL-URL:https://www.patriotguard.org
X-WR-CALDESC:Events for Patriot Guard Riders
BEGIN:VTIMEZONE
TZID:America/New_York
BEGIN:DAYLIGHT
TZOFFSETFROM:-0500
TZOFFSETTO:-0400
TZNAME:EDT
DTSTART:20160313T070000
END:DAYLIGHT
BEGIN:STANDARD
TZOFFSETFROM:-0400
TZOFFSETTO:-0500
TZNAME:EST
DTSTART:20161106T060000
END:STANDARD
END:VTIMEZONE
BEGIN:VEVENT
DTSTART;TZID=America/New_York:20160701T090000
DTEND;TZID=America/New_York:20160701T110000
DTSTAMP:20210512T120215
CREATED:20160701T130000Z
LAST-MODIFIED:20191201T144847Z
UID:411077-1467363600-1467370800@www.patriotguard.org
SUMMARY:Jim Cannon\, 66\, USMC
DESCRIPTION:The family of Jim Cannon has invited the Patriot Guard to stand a flag line in honor of his life and service to our country. \nJim enlisted in the US Marine Corps in 1967\, and did 13 months in Vietnam as a radio operator.  He was age 66\, from Isle\, MN and passed on January 26\, 2016. \nPlease come out and stand in silent tribute to Honor Jim’s life and service to our country. \n1:00 pm – Stage Lane A (along fence on 34th Ave S) at Ft Snelling National Cemetery\n1:30 pm – Brief\n2:00 pm – Interment \nEstimated release: 3:00 pm \nDismissal at RCIC’s discretion. \nThis is a rain\, or shine mission. Please bring your 3 x 5 American Flag and anything else you may need for the duration of this mission. \n“VA regulations 38 CFR 1.218 prohibit the carrying of firearms (either openly or concealed)\, explosives or other dangerous or deadly weapons while on VA property\, except for official purposes\, such as a military funeral honors. Possession of firearms on any property under the charge and control of VA is prohibited. Offenders may be subject to a fine\, removal from the premises or arrest.” \nRCIC – TBD\nFSNC Team \nContact:\nKarla Richardson\nASC\n(218)-639-8482
URL:https://www.patriotguard.org/mission/jim-cannon-66-usmc/
CATEGORIES:Archive
END:VEVENT
END:VCALENDAR