BEGIN:VCALENDAR
VERSION:2.0
PRODID:-//Patriot Guard Riders - ECPv5.3.2.1//NONSGML v1.0//EN
CALSCALE:GREGORIAN
METHOD:PUBLISH
X-WR-CALNAME:Patriot Guard Riders
X-ORIGINAL-URL:https://www.patriotguard.org
X-WR-CALDESC:Events for Patriot Guard Riders
BEGIN:VTIMEZONE
TZID:America/New_York
BEGIN:DAYLIGHT
TZOFFSETFROM:-0500
TZOFFSETTO:-0400
TZNAME:EDT
DTSTART:20190310T070000
END:DAYLIGHT
BEGIN:STANDARD
TZOFFSETFROM:-0400
TZOFFSETTO:-0500
TZNAME:EST
DTSTART:20191103T060000
END:STANDARD
END:VTIMEZONE
BEGIN:VEVENT
DTSTART;VALUE=DATE:20190606
DTEND;VALUE=DATE:20190607
DTSTAMP:20210404T230344
CREATED:20190605T144047Z
LAST-MODIFIED:20190605T144047Z
UID:163721-1559779200-1559865599@www.patriotguard.org
SUMMARY:Jim Burns
DESCRIPTION:Honor Mission\nJim Burns\, PGR-\nTempe\, Arizona – 06-06-19\n\n\n\n\nABOUT THE MISSION: \nThe AZPGR has been invited to set a flag line to honor one of our members. We honor Jim for serving with the Arizona Patriot Guard Riders.\n\n\nPRIMARY STAGING DETAILS: 06-06-19 \nStaging Time: 5:30 pm\n \nSun Valley Community Church\n6101 S River Dr\nTempe\, Arizona 85283\n\n\nRide Captain: \nDan Lazear\n480-223-8628\nazpgrdan@gmail.com\n\nFlag Captain: Doug “Bones” Boelter\n\n\nSpecial Instructions: \nCircle of Honor Time: TBA\nFlag Line Set: 6:00 pm\nFlag line will be set up at the entry to the church for arriving family and friends. Mission will stand down once service ends at 6:30 pm.\n\nFlags & Water:\nFlags will be provided\nLarge Bike Flags will NOT be needed.\nWater will be provided. \n\n\nSubmitted By: Bill Wooster \nPosition: Arizona Assistant State Captain \n\nNote: You do not have to own/ride a motorcycle or be a veteran to join\, and membership is Free. The only requirement is RESPECT! To subscribe to receive mission notices\, log into the National Site and click on the Members tab at the top. Select the Subscribe to PGR Missions option.\n Print This Page
URL:https://www.patriotguard.org/mission/jim-burns/
CATEGORIES:Honor Mission
END:VEVENT
END:VCALENDAR