BEGIN:VCALENDAR
VERSION:2.0
PRODID:-//Patriot Guard Riders - ECPv5.6.0//NONSGML v1.0//EN
CALSCALE:GREGORIAN
METHOD:PUBLISH
X-WR-CALNAME:Patriot Guard Riders
X-ORIGINAL-URL:https://www.patriotguard.org
X-WR-CALDESC:Events for Patriot Guard Riders
BEGIN:VTIMEZONE
TZID:America/New_York
BEGIN:DAYLIGHT
TZOFFSETFROM:-0500
TZOFFSETTO:-0400
TZNAME:EDT
DTSTART:20160313T070000
END:DAYLIGHT
BEGIN:STANDARD
TZOFFSETFROM:-0400
TZOFFSETTO:-0500
TZNAME:EST
DTSTART:20161106T060000
END:STANDARD
END:VTIMEZONE
BEGIN:VEVENT
DTSTART;TZID=America/New_York:20160814T090000
DTEND;TZID=America/New_York:20160814T110000
DTSTAMP:20210511T190952
CREATED:20160814T130000Z
LAST-MODIFIED:20191201T143650Z
UID:409979-1471165200-1471172400@www.patriotguard.org
SUMMARY:Jewett Williams\, USA
DESCRIPTION:updated 11 AUG 16 @ 7:28 p.m. CDT   ajbuechel \n\n \n\nHonorable Transfer \nPvt Jewett Williams\nCivil War Veteran\n14 August 2016\n\n\n\nThe Patriot Guard Riders have been invited to Escort and Honorably Transfer Civil War Veteran Pvt. Jewett Williams to the Maryland PGR on his way to be with his Civil War Brothers in Maine.\n\nA Color Guard in Oregon State and hospital officials handed over Pvt Williams’ ashes to The Patriot Guard Riders to be escorted to his final resting place in Maine.\n\n“He was a son\, a brother\, a husband and a father. At the end of his life\, however\, he was alone and institutionalized. Oregon Senate President Peter Courtney said at the ceremony. “When he died\, nobody came. Nobody came to honor him. Nobody came to take him home. Nobody came. Until Today.”\n\nIn 2014\, the memorial was opened with the remains of patients unclaimed by relatives kept in urns labeled with names\, birth and death dates and embedded in a wall. A gap now exists where Williams’ urn had been. Over 300 other remains have been claimed.\nThe 20th Maine famously prevented a Union defeat at Gettysburg with a bayonet charge at Little Round Top. Williams\, of Hodgdon\, Maine\, joined in October 1864\, more than a year later\, but many engagements remained. His regiment was at the siege of Petersburg\, Virginia\, and in battles with the rebels right up to Confederate Gen. Robert E. Lee’s surrender at Appomattox\, Virginia\, in April 1865.\n\nThe New Englanders were actively engaged with Grant’s army in the long siege of Petersburg of Civil War history at Virginia Tech. \nJewett shared a tent with his cousin\, Albert Williams\, who\, in a letter reflecting his rudimentary education\, described long marches in bad weather and sleeping in the open\, according to a family history published online in 2005 by Barbara Ann Estabrook. He also described a scorched-earth campaign. \n“i didnt have a chance to get a shot at a reb when we on the rode but i made the Cattle and Sheep and hogs suffer. You bet we killed every thing that we see and burnt everything as we went\,” Albert Williams wrote on Dec. 18\, 1864\, less than four months before he died of fever at age 21.\n\nJewett Williams was married and divorced\, then remarried and moved to Michigan\, then to Minnesota where he was a carpenter. His first child died after only 19 months. He and his wife had five more children and moved to Washington state\, where the couple separated. In the 1920 census\, Williams was listed as a widower in Portland\, Oregon.\n\nIn April 1922\, Williams was admitted to the Oregon State Hospital for the Insane in Salem\, as the hospital was then known. He died on July 17\, 1922\, at 78\, of cerebral arteriosclerosis.\n\nNone of Jewett’s descendants has been found.\n\nHis remains are scheduled to arrive in Maine on Aug. 22 and will be buried with Military Honors in Togus National Cemetery in Maine on Sept. 17. Pvt Jewett Williams will rejoin his comrades-in-arms in Maine.\n\nStaging: 7:30 AM\nPark & Ride Parking Lot\nJ. Barry Stout Park & Ride\nExit 20 I 70 Washington\, PA\nRoute 136 E Beau St Lakeview Dr\n\nhttps://www.google.com/maps/place/J.+Barry+Stout+Park+and+Ride\,+E+Beau+St\,+Washington\,+PA+15301/@40.1772489\,-80.2221167\,17z/data=!4m2!3m1!1s0x8835ac55db85429f:0x65013abffc39233a?hl=en-US\n\nBriefing: 7:45 AM\n\nKSU: 8:00 AM Sharp!\n\nStop: Keysers Ridge\n5\, Accident\, MD 21520\nhttps://goo.gl/maps/R54tnGcxRZB2 \nFor Break\, Food and Gas\nKSU: To be determined by the Ride Captain\n\nHonorable Transfer To Maryland Patriot Guard.\nSuper 8 Motel\n118 Lime Stone Rd\nHancock\, MD\n\nhttps://goo.gl/maps/vyc4Byejib12 \nRoute changes will be discussed at the Briefing. \nAnyone is Welcome to join us on the route to MD ( 79 S to 68 W) and may proceed for all of this mission or any part of this mission. \nDress For Rain. Bringing Cages Advised. \nRide Captain: Aaron Zeff\npgrpa.asc.west@gmail.com\n[URL=”tel:%28724%29587-5626″](724)587-5626[/URL]\n \n****************************************** \n\n\nHonorable  Transfer \nPvt Jewett Williams\nCivil War Veteran\n  14 August 2016\n\n\n\nThe Patriot Guard Riders have been invited to Escort and Honorably Transfer Civil War Veteran Pvt. Jewett Williams to the Maryland PGR on his way to be with his Civil War Brothers in Maine.\n\nA Color Guard in Oregon State and hospital officials handed over  Pvt Williams’ ashes to The Patriot Guard Riders to be escorted to his final resting place in Maine.\n\n“He was a son\, a brother\, a husband and a father. At the end of his life\, however\, he was alone and institutionalized. Oregon Senate President Peter Courtney said at the ceremony. “When he died\, nobody came. Nobody came to honor him. Nobody came to take him home. Nobody came. Until Today.”\n\nIn 2014\, the memorial was opened with the remains of patients unclaimed by relatives kept in urns labeled with names\, birth and death dates and embedded in a wall. A gap now exists where Williams’ urn had been. Over 300 other remains have been claimed.\nThe 20th Maine famously prevented a Union defeat at Gettysburg with a bayonet charge at Little Round Top. Williams\, of Hodgdon\, Maine\, joined in October 1864\, more than a year later\, but many engagements remained. His regiment was at the siege of Petersburg\, Virginia\, and in battles with the rebels right up to Confederate Gen. Robert E. Lee’s surrender at Appomattox\, Virginia\, in April 1865.\n\nThe New Englanders were actively engaged with Grant’s army in the long siege of Petersburg of Civil War history at Virginia Tech. \nJewett shared a tent with his cousin\, Albert Williams\, who\, in a letter reflecting his rudimentary education\, described long marches in bad weather and sleeping in the open\, according to a family history published online in 2005 by Barbara Ann Estabrook. He also described a scorched-earth campaign. \n“i didnt have a chance to get a shot at a reb when we on the rode but i made the Cattle and Sheep and hogs suffer. You bet we killed every thing that we see and burnt everything as we went\,” Albert Williams wrote on Dec. 18\, 1864\, less than four months before he died of fever at age 21.\n\nJewett Williams was married and divorced\, then remarried and moved to Michigan\, then to Minnesota where he was a carpenter. His first child died after only 19 months. He and his wife had five more children and moved to Washington state\, where the couple separated. In the 1920 census\, Williams was listed as a widower in Portland\, Oregon.\n\nIn April 1922\, Williams was admitted to the Oregon State Hospital for the Insane in Salem\, as the hospital was then known. He died on July 17\, 1922\, at 78\, of cerebral arteriosclerosis.\n\nNone of Jewett’s descendants has been found.\n\nHis remains are scheduled to arrive in Maine on Aug. 22 and will be buried with Military Honors in Togus National Cemetery in Maine on Sept. 17.  Pvt Jewett Williams will rejoin his comrades-in-arms in Maine.\n\nStaging: 7:30 AM\nPark & Ride Parking Lot\nJ. Barry Stout Park & Ride\nExit 20 I 70 Washington\, PA\nRoute 136 E Beau St Lakeview Dr\n\nhttps://www.google.com/maps/place/J.+Barry+Stout+Park+and+Ride\,+E+Beau+St\,+Washington\,+PA+15301/@40.1772489\,-80.2221167\,17z/data=!4m2!3m1!1s0x8835ac55db85429f:0x65013abffc39233a?hl=en-US\n\nBriefing: 7:45 AM\n\nKSU: 8:00 AM Sharp!\n\nStop: Keyser’s Ridge-Auto Truck Stop\n\n4008 National Pike\, Grantsville\, MD 21520\n\nExit 14B Off Of 68 \nhttps://maps.google.com/maps?oe=UTF-8&hl=en-us&client=safari&um=1&ie=UTF-8&fb=1&gl=us&entry=s&sa=X&ftid=0x89cab103983d61d5:0xdb41e320641e263c&gmm=CgIgAQ%3D%3D \nFor Break\, Food an Gas\nKSU: To be determined by the Ride Captain\n\nHonorable Transfer To Maryland Patriot Guard.\nSuper 8 Motel\n118 Lime Stone Rd\nHancock\, MD\n\nhttps://goo.gl/maps/vyc4Byejib12 \nRoute changes will be discussed at the Briefing. \nAnyone is Welcome to join us on the route to MD ( 79 S to 68 W)  and may proceed for all of this mission or any part of this mission. \nDress For Rain.  Bringing Cages Advised. \nRide Captain: Aaron Zeff\npgrpa.asc.west@gmail.com\n[URL=”tel:%28724%29587-5626″](724)587-5626[/URL]
URL:https://www.patriotguard.org/mission/jewett-williams-usa-5/
CATEGORIES:Archive
END:VEVENT
END:VCALENDAR