BEGIN:VCALENDAR
VERSION:2.0
PRODID:-//Patriot Guard Riders - ECPv5.6.0//NONSGML v1.0//EN
CALSCALE:GREGORIAN
METHOD:PUBLISH
X-WR-CALNAME:Patriot Guard Riders
X-ORIGINAL-URL:https://www.patriotguard.org
X-WR-CALDESC:Events for Patriot Guard Riders
BEGIN:VTIMEZONE
TZID:America/New_York
BEGIN:DAYLIGHT
TZOFFSETFROM:-0500
TZOFFSETTO:-0400
TZNAME:EDT
DTSTART:20160313T070000
END:DAYLIGHT
BEGIN:STANDARD
TZOFFSETFROM:-0400
TZOFFSETTO:-0500
TZNAME:EST
DTSTART:20161106T060000
END:STANDARD
END:VTIMEZONE
BEGIN:VEVENT
DTSTART;TZID=America/New_York:20160603T090000
DTEND;TZID=America/New_York:20160603T110000
DTSTAMP:20210513T190322
CREATED:20160603T130000Z
LAST-MODIFIED:20191201T145449Z
UID:411622-1464944400-1464951600@www.patriotguard.org
SUMMARY:Jessie W. Sumners\, 84\, USA
DESCRIPTION:Jessie Sumners honorably served his country in the US Army from 1950-1954\, and is a Korean War Veteran. During his service he was awarded the Bronze Medal of Valor. Jessie recently passed away at the age of 84 years. Surviving Jessie are his widow Beverly\, two sons\, one daughter\, two step-daughters\, three step-sons\, four grandchildren\, seven great-grandchildren\, two sisters and two brothers. Services will be held for Jessie at the Prescott VA Chapel on June 3 at 11 AM . His family has asked PGR to stand a flag line in honor of  Jessie’s service to his country at the service. \nDATE: Friday\, June 3\, 2016 \nSTAGING:\n1015 hours\nPrescott VA Chapel\n500 SR 89\, Prescott\, AZ 86301 \nBRIEFING:  1030 hours \nFLAG LINE: 1040 hours\nFLAG LINE ONLY; NO ESCORT. ROAD GUARDS ARE NOT NEEDED. \n[The flag line will remain up until the conclusion of military honors by the American Legion Post 6 Honor Guard (shortly after 1100 hours). PGR members are asked to remain until the end of services and to again stand the flag line when Jessie and his family leave the VA Chapel.] \nRIDE CAPTAIN:\nSean Kriner\n602-535-9988\nsean_kriner@yahoo.com \nFLAG PERSON/SUPPORT VEHICLE:\nTo be determined \nDIRECTIONS TO VA CHAPEL:\nThe VA Chapel at the Northern AZ VA Medical center\n500 AZ 89\, Prescott\, AZ 86301 \nMap Link:http://tinyurl.com/o7r3wmb \nDIRECTIONS TO VA CHAPEL FROM PHOENIX:\n> Take 1-17 North to Cordes Junction/Highway 69 exit (Prescott). Follow Highway 69 to Prescott (you will go through Mayer\, Dewey and Prescott Valley and then to Prescott).\n> As you approach the Prescott Resort (on right with neon sign\, just after you pass the Frontier Village shopping center that will be on your left) get in the far right hand lane.\n> After the stoplight by the Prescott Resort bear right to get on Highway 89N (towards Chino Valley).\n>  As soon as you bear right\, get in the left-hand lane and turn left across Highway 89 at the stoplight to enter the VA Medical Center Grounds.\n>  As you enter the grounds\, go straight to the first stop sign; continue to the right at the stop sign; the VA Chapel will be on your right; motorcycle parking will be on the right side of the street in front of the VA Chapel; car/truck parking will be immediately in the parking lot across from the VA Chapel on your left side.
URL:https://www.patriotguard.org/mission/jessie-w-sumners-84-usa/
CATEGORIES:Archive
END:VEVENT
END:VCALENDAR