BEGIN:VCALENDAR
VERSION:2.0
PRODID:-//Patriot Guard Riders - ECPv5.3.2.1//NONSGML v1.0//EN
CALSCALE:GREGORIAN
METHOD:PUBLISH
X-WR-CALNAME:Patriot Guard Riders
X-ORIGINAL-URL:https://www.patriotguard.org
X-WR-CALDESC:Events for Patriot Guard Riders
BEGIN:VTIMEZONE
TZID:America/New_York
BEGIN:DAYLIGHT
TZOFFSETFROM:-0500
TZOFFSETTO:-0400
TZNAME:EDT
DTSTART:20190310T070000
END:DAYLIGHT
BEGIN:STANDARD
TZOFFSETFROM:-0400
TZOFFSETTO:-0500
TZNAME:EST
DTSTART:20191103T060000
END:STANDARD
END:VTIMEZONE
BEGIN:VEVENT
DTSTART;VALUE=DATE:20190803
DTEND;VALUE=DATE:20190804
DTSTAMP:20210402T153546
CREATED:20190802T211024Z
LAST-MODIFIED:20190802T211153Z
UID:169658-1564790400-1564876799@www.patriotguard.org
SUMMARY:Jesse Mack 'Macko' Owens
DESCRIPTION:Honor Mission\nJesse Mack ‘Macko’ Owens\, Veteran\nUSA – Vietnam\nHenderson\, Texas – 08-03-19\n\n\n\nABOUT THE MISSION: \nOwens proudly served his country in the United States Army during the Vietnam conflict from 1966 to 1968 and was Honorably discharged.  Obit; https://tinyurl.com/y3fb5r6m\n\n\nPRIMARY STAGING DETAILS: 08-03-19 \nStaging: 8:15 AM\n \nDuncan Cemetery\nat intersection of HWY 42 and CR 454\nHenderson\, Texas 75654\nhttps://goo.gl/maps/igkApsQN4tF562u87\n\n\nRide Captain: \nBill Parrish\n903-926-1962\nbparrish4x4@gmail.com\n\n\nSpecial Instructions: \nStage: 8:15 AM to 8:45 AM\nBrief: 8:45 AM\nFLAG-LINE ONLY\, We may have to fold and present the flag\, Please remain flexible as to the requirements of the mission.(Semper Gumby)\n\n\nFlags & Water:\nFlags will be provided\nLarge Bike Flags will NOT be needed.\nWater will be provided.\n\nSubmitted By: Michael Eubank \nPosition: Texas Deputy State Captain \n\nNote: You do not have to own/ride a motorcycle or be a veteran to join\, and membership is Free. The only requirement is RESPECT! To subscribe to receive mission notices\, log into the National Site and click on the Members tab at the top. Select the Subscribe to PGR Missions option.\n Print This Page
URL:https://www.patriotguard.org/mission/jesse-mack-macko-owens/
CATEGORIES:Honor Mission
END:VEVENT
END:VCALENDAR