BEGIN:VCALENDAR
VERSION:2.0
PRODID:-//Patriot Guard Riders - ECPv5.6.0//NONSGML v1.0//EN
CALSCALE:GREGORIAN
METHOD:PUBLISH
X-WR-CALNAME:Patriot Guard Riders
X-ORIGINAL-URL:https://www.patriotguard.org
X-WR-CALDESC:Events for Patriot Guard Riders
BEGIN:VTIMEZONE
TZID:America/New_York
BEGIN:DAYLIGHT
TZOFFSETFROM:-0500
TZOFFSETTO:-0400
TZNAME:EDT
DTSTART:20140309T070000
END:DAYLIGHT
BEGIN:STANDARD
TZOFFSETFROM:-0400
TZOFFSETTO:-0500
TZNAME:EST
DTSTART:20141102T060000
END:STANDARD
END:VTIMEZONE
BEGIN:VEVENT
DTSTART;TZID=America/New_York:20140721T090000
DTEND;TZID=America/New_York:20140721T110000
DTSTAMP:20210513T214443
CREATED:20140721T130000Z
LAST-MODIFIED:20191201T132455Z
UID:400630-1405933200-1405940400@www.patriotguard.org
SUMMARY:Jesse J. Mitchell\, Jr\, USA
DESCRIPTION:[FONT=&quot]PATRIOT GUARD RIDERS[/FONT][FONT=&quot][/FONT]\n\n\n[FONT=&quot]YOUR PRESENCE HAS BEEN REQUESTED[/FONT][FONT=&quot][/FONT]\n\n\n[FONT=&quot]Jesse James Mitchell\, Jr.\, Private First Class[/FONT][FONT=&quot][/FONT]\n\n\n[FONT=&quot]United States Army[/FONT]\n\n\n[FONT=&quot]21 July 2014[/FONT]\n\n\n[FONT=&quot]Pleasanton\, Kansas[/FONT]\n\n\n[FONT=&quot] [/FONT]\n[FONT=&quot] [/FONT]\n[FONT=&quot]The  family of Jesse James Mitchell\, Jr. has requested that the Patriot  Guard Riders man a flag line and escort him to his final resting place  in Pleasanton\, Kansas on 21 Jul 14. Private First Class Mitchell served  in the Korean War and received the Purple Heart for wounds he received  there.[/FONT]\n[FONT=&quot]Visitation  will take place at Schneider Funeral Home\, 816 Main\, Pleasanton\, Kansas  at 10:00 am with an escort to Pleasanton Cemetery to follow.  There  will be a graveside service at 11:00 am with military honors at the  cemetery.[/FONT]\n[FONT=&quot] [/FONT]\n[FONT=&quot] [/FONT]\n[FONT=&quot]Staging:[/FONT]\n[FONT=&quot]0830 hrs. (8:30 am) – Stage and set flags at Schneider Funeral Home\, 816 Main\, Pleasanton\, Kansas[/FONT]\n[FONT=&quot]0900 hrs. (9:15 am) – Man flag line[/FONT]\n[FONT=&quot]1010 hrs. (10:10 am) – Ride Briefing[/FONT]\n[FONT=&quot]1045 hrs. (10:45 am) – Escort to Pleasanton Cemetery[/FONT]\n[FONT=&quot] [/FONT]\n[FONT=&quot] [/FONT]\n[FONT=&quot]Your Ride Captain for this mission will be: [/FONT][FONT=&quot][/FONT]\n[FONT=&quot]Kevin (Scoop) Wagner[/FONT]\n[FONT=&quot]wagner@ckt.net[/FONT]\n[FONT=&quot]620-215-2174[/FONT]\n[FONT=&quot] [/FONT]\n[FONT=&quot] [/FONT]\n[FONT=&quot]Thank you all for what you do.[/FONT] \n[FONT=&quot] [/FONT]\n[FONT=&quot]Bruce (Medic) Holmes[/FONT]
URL:https://www.patriotguard.org/mission/jesse-j-mitchell-jr-usa/
CATEGORIES:Archive
END:VEVENT
END:VCALENDAR