BEGIN:VCALENDAR
VERSION:2.0
PRODID:-//Patriot Guard Riders - ECPv5.3.2.1//NONSGML v1.0//EN
CALSCALE:GREGORIAN
METHOD:PUBLISH
X-WR-CALNAME:Patriot Guard Riders
X-ORIGINAL-URL:https://www.patriotguard.org
X-WR-CALDESC:Events for Patriot Guard Riders
BEGIN:VTIMEZONE
TZID:America/New_York
BEGIN:DAYLIGHT
TZOFFSETFROM:-0500
TZOFFSETTO:-0400
TZNAME:EDT
DTSTART:20190310T070000
END:DAYLIGHT
BEGIN:STANDARD
TZOFFSETFROM:-0400
TZOFFSETTO:-0500
TZNAME:EST
DTSTART:20191103T060000
END:STANDARD
END:VTIMEZONE
BEGIN:VEVENT
DTSTART;VALUE=DATE:20190802
DTEND;VALUE=DATE:20190803
DTSTAMP:20210402T195924
CREATED:20190801T021030Z
LAST-MODIFIED:20190801T021030Z
UID:169433-1564704000-1564790399@www.patriotguard.org
SUMMARY:Jerry Williams
DESCRIPTION:Honor Mission\nJerry Williams\, Veteran\nUSN – Vietnam\nPoplar Bluff\, Missouri – 08-02-19\n\n\n\nABOUT THE MISSION: \nThe Family of US Navy Vietnam veteran Jerry Williams (74) has requested the Patriot Guard Riders for the final mission of their loved one. Jerry served his country from 1964-1968.\n\n\nPRIMARY STAGING DETAILS: 08-02-19 \nStaging Time: 10:45 AM\n \nKitrell Funeral Home\n701 Vine Street\nPoplar Bluff \, Missouri 63901\n\n\nRide Captain: \nRC & Support Teresa “Smilz “ Barnhouse Smilz4u40@yahoo.com\n\n\nSpecial Instructions: \nFlag line during visitation from 11 AM – 12 Noon.\nService: 12 Noon\nEscort immediately following Service to Missouri State Veterans Cemetery (Bloomfield) for interment with full military honors.\nWeather: 81 * Partly Cloudy- travel/ dress accordingly. HYDRATE\n\n\nFlags & Water:\nFlags will be provided\nIf you have large bike flags\, please bring them.\nWater will be provided.\n\n\n\nSubmitted By: Dave Beck \nPosition: Missouri Assistant State Captain \n\nNote: You do not have to own/ride a motorcycle or be a veteran to join\, and membership is Free. The only requirement is RESPECT! To subscribe to receive mission notices\, log into the National Site and click on the Members tab at the top. Select the Subscribe to PGR Missions option.\n Print This Page
URL:https://www.patriotguard.org/mission/jerry-williams/
CATEGORIES:Honor Mission
END:VEVENT
END:VCALENDAR