BEGIN:VCALENDAR
VERSION:2.0
PRODID:-//Patriot Guard Riders - ECPv5.6.0//NONSGML v1.0//EN
CALSCALE:GREGORIAN
METHOD:PUBLISH
X-WR-CALNAME:Patriot Guard Riders
X-ORIGINAL-URL:https://www.patriotguard.org
X-WR-CALDESC:Events for Patriot Guard Riders
BEGIN:VTIMEZONE
TZID:America/New_York
BEGIN:DAYLIGHT
TZOFFSETFROM:-0500
TZOFFSETTO:-0400
TZNAME:EDT
DTSTART:20160313T070000
END:DAYLIGHT
BEGIN:STANDARD
TZOFFSETFROM:-0400
TZOFFSETTO:-0500
TZNAME:EST
DTSTART:20161106T060000
END:STANDARD
END:VTIMEZONE
BEGIN:VEVENT
DTSTART;TZID=America/New_York:20160823T090000
DTEND;TZID=America/New_York:20160823T110000
DTSTAMP:20210511T192652
CREATED:20160823T130000Z
LAST-MODIFIED:20191201T143433Z
UID:409767-1471942800-1471950000@www.patriotguard.org
SUMMARY:Jerry Robinson\, 83
DESCRIPTION:23 August 2016\nTuesday\nCPL (T) Jerry Robinson\nUS Army \nAlabama State Veterans Memorial Cemetery\nSpanish Fort\, AL\n\n\n\nFellow Riders\, \nIt is with heavy heart that I must inform you that Alabama and America has lost another true American hero.  The family of CPL (T) Jerry Robinson has requested the Patriot Guard to stand in honor of him.  Mr. Robinson passed away at the age of 83 on 15 August 2016. \nMr. Robinson served for two years with U.S. Army between 1953 and 1955 and was awarded the National Defense Service Medal\, and an Honorable Discharge.  It is our honor to stand for this true American Hero. \nVisitation:  1000 – 1100 hrs. – Greater Nazaree Baptist Church\, 505 J Blair St.\, Mobile\, AL\nFuneral Service:  1100 hrs. – Greater Nazaree Baptist Church\, 505 J Blair St.\, Mobile\, AL\nCommittal Service:  1330 hrs. – Alabama State Veterans Memorial Cemetery\, Spanish Fort\, AL\nFlags:  Committal Shelter\nLEO – Yes\, Honor Guard – Yes \nBaldwin County Staging:\nLocation:  Spanish Fort Scenic Overlook (NW corner of I-10 and Hwy 98)\nTime:        0830 hrs.\nBriefing:   N/A\nKSU:         0845 hrs.\nRCIC:       None at this time – Proceed to Mobile County Staging location. \nMobile County Staging:\nLocation:  Turner Supply Company Parking Lot (Corner of Water and Congress Streets)\nTime:        0915 hrs.\nBriefing:   0930 hrs.\nKSU:        0945 hrs.\nRCIC:       Greg Selman\, (251) 490-9791\nFlags:        Lloyd Pursley\, (251) 422-0696 \nMr. Robinson stood many a hard day and night for us so that we might be safe and free.  Now it’s our turn to stand for him.  Ride Safely!!
URL:https://www.patriotguard.org/mission/jerry-robinson-83/
CATEGORIES:Archive
END:VEVENT
END:VCALENDAR