BEGIN:VCALENDAR
VERSION:2.0
PRODID:-//Patriot Guard Riders - ECPv5.3.2.1//NONSGML v1.0//EN
CALSCALE:GREGORIAN
METHOD:PUBLISH
X-WR-CALNAME:Patriot Guard Riders
X-ORIGINAL-URL:https://www.patriotguard.org
X-WR-CALDESC:Events for Patriot Guard Riders
BEGIN:VTIMEZONE
TZID:America/New_York
BEGIN:DAYLIGHT
TZOFFSETFROM:-0500
TZOFFSETTO:-0400
TZNAME:EDT
DTSTART:20170312T070000
END:DAYLIGHT
BEGIN:STANDARD
TZOFFSETFROM:-0400
TZOFFSETTO:-0500
TZNAME:EST
DTSTART:20171105T060000
END:STANDARD
END:VTIMEZONE
BEGIN:VEVENT
DTSTART;TZID=America/New_York:20171003T103000
DTEND;TZID=America/New_York:20171003T123000
DTSTAMP:20210404T195845
CREATED:20171003T143000Z
LAST-MODIFIED:20191201T031435Z
UID:318729-1507026600-1507033800@www.patriotguard.org
SUMMARY:Jerry Morton\, Veteran\, USA\, Fire
DESCRIPTION:Jerry Morton\, Veteran\nUSA Fire\nMULTI-CITY\, Idaho – 03 Oct 2017\n\n\n[HR][/HR]\nABOUT THE MISSION: \n\nThe family of Jerry Morton has invited us to honor his life and service to his country by standing a flag line at his funeral service and interment. The funeral service will be held on Tuesday October 3\, 2017\, at Parkes Funeral Home\, 2551 Kimberly Rd\, Twin Falls Id. Burial to follow at Rock Creek Cemetery\, Hansen\, Id. \nJerry Served in the US Army from 1964 to 1972. He was a member of Twin Falls Fire Dept\, serving as Hazmat officer. \nJerry was also a member of the PGR\, serving as a District Captain during the formation of the PGR in Idaho.\n \n\nPRIMARY STAGING DETAILS:  03 Oct 2017\nPrimary Staging Time: 10:30 A.M. \n\nChevron Station\nI84 Exit 57\nBoise\, Idaho –\n\n\nRide Captain: \n\nDario Bell\ndariobell@cableone.net\n208-515-6959 \nLyle Frost\nLylfrost1933@gmail.com\n208-841-6436\n\n\nSpecial Instructions: \n\nBriefing/Updates 1040 hrs\nKSU 1045 hrs.\n1245 hrs Arrive Twin Falls\, Id\n\n\nFlags & Water: \n\nFlags Will NOT Be Provided\, Please Bring Your Own.\nIf you have large bike flags\, please bring them.\nWater WILL NOT be provided\, please bring your own.\n\n[HR][/HR]STAGING #2 DETAILS: 03 Oct\, 2017\nStaging #2 Time: 12:30 P.M. \n\nParkes Funeral Home\n2551 Kimberly Rd\nTwin Falls\, Idaho –\n\n\nRide Captain: \n\nShane Leiser\ndesertdoc_idaho@yahoo.com\n208-420-7027\n\n\nSpecial Instructions: \n\nBriefing 1245 Hrs. (Wait for arrival of Boise riders)\n1300 hrs. Establish Flag line.\nUpon commencement of service riders will be dismissed and asked to proceed to Rock Creek Cemetery. East on Kimberly Rd\, Turn right on Rock Creek Rd (N 3800 E) and go south approx 5 miles. Cemetery is on the East side of Rd. \nDepending on # of riders\, a missing man might be assigned to escort the procession. TBD at briefing\,\n \n\nFlags & Water: \n\nFlags Will NOT Be Provided\, Please Bring Your Own.\nLarge Bike Flags will be needed\nWater WILL NOT be provided\, please bring your own.\n\n\nSubmitted By: Dario Bell\nPosition: State Captain\n[HR][/HR]Note:\nYou do not have to own/ride a motorcycle or be a Veteran to join and membership is Free. The only requirement is RESPECT! To join\, simply go to www.PatriotGuard.org and click on Register. Membership is Free. \nTo subscribe to receive mission notices\, log into the National Site and click on the Mission Tab at the top. Select the Subscribe to Missions option.
URL:https://www.patriotguard.org/mission/jerry-morton-veteran-usa-fire/
END:VEVENT
END:VCALENDAR