BEGIN:VCALENDAR
VERSION:2.0
PRODID:-//Patriot Guard Riders - ECPv5.3.2.1//NONSGML v1.0//EN
CALSCALE:GREGORIAN
METHOD:PUBLISH
X-WR-CALNAME:Patriot Guard Riders
X-ORIGINAL-URL:https://www.patriotguard.org
X-WR-CALDESC:Events for Patriot Guard Riders
BEGIN:VTIMEZONE
TZID:America/New_York
BEGIN:DAYLIGHT
TZOFFSETFROM:-0500
TZOFFSETTO:-0400
TZNAME:EDT
DTSTART:20170312T070000
END:DAYLIGHT
BEGIN:STANDARD
TZOFFSETFROM:-0400
TZOFFSETTO:-0500
TZNAME:EST
DTSTART:20171105T060000
END:STANDARD
END:VTIMEZONE
BEGIN:VEVENT
DTSTART;TZID=America/New_York:20170714T123000
DTEND;TZID=America/New_York:20170714T143000
DTSTAMP:20210406T022216
CREATED:20170714T163000Z
LAST-MODIFIED:20191201T032730Z
UID:330761-1500035400-1500042600@www.patriotguard.org
SUMMARY:Jerry Lynn McFarlane\, Veteran\, USN - Vietnam
DESCRIPTION:Jerry Lynn McFarlane\, Veteran \nUSN – Vietnam \nHigginsville\, Missouri – 14 Jul 2017\n\n[HR][/HR]\nABOUT THE MISSION: \nVietnam Veteran Jerry Lynn McFarlane served in the U.S. Navy from 1970 – 1971 where he attained the rank of (E-3) Seaman while performing duties as a Fireman.  He served aboard the USS Anchorage and the USS Duluth which were both Transport Dock Ships.  Seaman McFarlane received the Vietnam Service Medal along with the National Defense Medal. \nJerry Lynn McFarlane lived in Warsaw Missouri\, formerly of Clinton\, Missouri. \nPRIMARY STAGING DETAILS: 14 Jul 2017 \n \nPrimary Staging Time: 12:30 P.M.\n\nMO Veterans Cemetery\n20109 Business Highway 13\n\nHigginsville\, Missouri – 64037\n\n\n\n \nRide Captain:\n\nRichard A. Maxwell\nrmax55@att.net\n660-909-4888\n\n \nSpecial Instructions:\n\nStaging will be at the chapel \nWeather: High 89 cloudy with 08 mph cross winds 20% chance of rain.\n\n \nFlags & Water:\n\nFlags Will Be Provided\n\nLarge Bike Flags will NOT be needed.\n\nWater will be provided.\n\n\nSubmitted By: Richard Maxwell\nPosition: Ride Captain \n[HR][/HR]\nNote:\nYou do not have to own/ride a motorcycle or be a Veteran to join and membership is Free. The only requirement is RESPECT! To join\, simply go to www.PatriotGuard.org and click on Register. Membership is Free. \nTo subscribe to receive mission notices\, log into the National Site and click on the Mission Tab at the top. Select Upcoming Missions by State. Scroll to the state(s) you would like to receive notices for and click on the green check mark. Detailed instructions are also located in the FAQs on the site by clicking on the Quick Links Tab and selecting FAQs.
URL:https://www.patriotguard.org/mission/jerry-lynn-mcfarlane-veteran-usn-vietnam/
END:VEVENT
END:VCALENDAR