BEGIN:VCALENDAR
VERSION:2.0
PRODID:-//Patriot Guard Riders - ECPv5.3.2.1//NONSGML v1.0//EN
CALSCALE:GREGORIAN
METHOD:PUBLISH
X-WR-CALNAME:Patriot Guard Riders
X-ORIGINAL-URL:https://www.patriotguard.org
X-WR-CALDESC:Events for Patriot Guard Riders
BEGIN:VTIMEZONE
TZID:America/New_York
BEGIN:DAYLIGHT
TZOFFSETFROM:-0500
TZOFFSETTO:-0400
TZNAME:EDT
DTSTART:20190310T070000
END:DAYLIGHT
BEGIN:STANDARD
TZOFFSETFROM:-0400
TZOFFSETTO:-0500
TZNAME:EST
DTSTART:20191103T060000
END:STANDARD
END:VTIMEZONE
BEGIN:VEVENT
DTSTART;VALUE=DATE:20190822
DTEND;VALUE=DATE:20190823
DTSTAMP:20210402T132314
CREATED:20190820T164620Z
LAST-MODIFIED:20190820T164620Z
UID:171392-1566432000-1566518399@www.patriotguard.org
SUMMARY:Jerry L. Wilson Sr.
DESCRIPTION:Honor Mission\nJerry L. Wilson Sr.\, Veteran\nUSN –\nMidwest City\, Oklahoma – 08-22-19\n\n\n\nABOUT THE MISSION: \nThe family of USN Jerry L. Wilson Sr. has asked the PGR to stand a Flag Line for his memorial to be held at 10:30 a.m. Internment will follow at Byars Cemetery\, Byars OK.\n\n\nPRIMARY STAGING DETAILS: 08-22-19 \nStaging Time: 09:30  \nBarnes and Friederich Funeral Home\n1600 S Douglas Blvd.\nMidwest City\, Oklahoma\n\n\nRide Captain: \nJim “Air Ride” Gaines\n405-220-3930\n\n\nSpecial Instructions: \nStaging : 9:30 a.m.\nMandatory Briefing: 9:45 a.m. Riders must attend to ride escort.\nStand Flag Line: 10:00 a.m. Riders will stand a Flag Line for family and friends as they arrive.\nWeather: Highs in the upper 80’s with a 40% chance of rain.\nRide or cage to your ability. Please hydrate before during and after the mission.\n\n\nFlags & Water:\nFlags will be provided\nIf you have large bike flags\, please bring them.\nWater WILL NOT be provided\, please bring your own.\n\n\n\nSubmitted By: Jeff Huff \nPosition: Oklahoma Ride Captain \n\nNote: You do not have to own/ride a motorcycle or be a veteran to join\, and membership is Free. The only requirement is RESPECT! To subscribe to receive mission notices\, log into the National Site and click on the Members tab at the top. Select the Subscribe to PGR Missions option.\n Print This Page
URL:https://www.patriotguard.org/mission/jerry-l-wilson-sr/
CATEGORIES:Honor Mission
END:VEVENT
END:VCALENDAR