BEGIN:VCALENDAR
VERSION:2.0
PRODID:-//Patriot Guard Riders - ECPv5.3.2.1//NONSGML v1.0//EN
CALSCALE:GREGORIAN
METHOD:PUBLISH
X-WR-CALNAME:Patriot Guard Riders
X-ORIGINAL-URL:https://www.patriotguard.org
X-WR-CALDESC:Events for Patriot Guard Riders
BEGIN:VTIMEZONE
TZID:America/New_York
BEGIN:DAYLIGHT
TZOFFSETFROM:-0500
TZOFFSETTO:-0400
TZNAME:EDT
DTSTART:20210314T070000
END:DAYLIGHT
BEGIN:STANDARD
TZOFFSETFROM:-0400
TZOFFSETTO:-0500
TZNAME:EST
DTSTART:20211107T060000
END:STANDARD
END:VTIMEZONE
BEGIN:VEVENT
DTSTART;VALUE=DATE:20210330
DTEND;VALUE=DATE:20210401
DTSTAMP:20210401T152602
CREATED:20210330T035543Z
LAST-MODIFIED:20210330T035543Z
UID:573282-1617062400-1617235199@www.patriotguard.org
SUMMARY:Jerry L. Martie
DESCRIPTION:Honor Mission\nJerry L. Martie\, Retired\nUSAF – Vietnam\nMacon\, Missouri – 03-30-21 & 03-31-21\n\n\n\nABOUT THE MISSION: \nJerry L. Martie\, 75\, of Macon\, MO proudly served his country with the US Air Force during the Vietnam War from 1968 to 1971. He achieved the rank of Sargent and was awarded the National Defense Service Medal and Air Force Medal.\n\n\nPRIMARY STAGING DETAILS: 03-30-21 \nStaging Time: 3:45 pm\n \nHutton & McElwain Funeral Home\n301 N. Rubey Street\nMacon\, Missouri 63552\n\n\nRide Captain: \nJan Watts\n660-349-9134\nliltyke2355@gmail.com\n\n\nSpecial Instructions: \nFamily to arrive at 4:00 PM\, visitation from 5:00 PM to 7:00 PM. Come and go as you can. Feel free to drive or ride. Temps in the 50’s with 13-14 mph winds\n\nFlags & Water:\nFlags will be provided\nIf you have large bike flags\, please bring them.\nWater will be provided.\n\nSTAGING #2 DETAILS: 03-31-21 \nStaging Time: 11:30 am  \nFirst Christian Church\n806 E. Briggs\nMacon\, Missouri 63552\n\n\nRide Captain: \nJan Watts\n660-349-9134\nliltyke.2355@gmail.com\n\n\nSpecial Instructions: \nFlags set prior to funeral service. Service to begin at 12:30 PM. Following service\, an escort to Missouri Veterans Cemetery in Jacksonville\, MO.\, for a 2:00 PM Committal Service. Temps in 40’s with 15-17 mph winds projected forecast.\n\nFlags & Water:\nFlags will be provided\nIf you have large bike flags\, please bring them.\nWater will be provided.\n\n\n\nSubmitted By: Jan Watts \nPosition: Missouri Ride Captain \n\nNote: You do not have to own/ride a motorcycle or be a veteran to join\, and membership is Free. The only requirement is RESPECT! To subscribe to receive mission notices\, log into the National Site and click on the Members tab at the top. Select the Subscribe to PGR Missions option.\n Print This Page
URL:https://www.patriotguard.org/mission/jerry-l-martie/
CATEGORIES:Honor Mission
END:VEVENT
END:VCALENDAR