BEGIN:VCALENDAR
VERSION:2.0
PRODID:-//Patriot Guard Riders - ECPv5.3.2.1//NONSGML v1.0//EN
CALSCALE:GREGORIAN
METHOD:PUBLISH
X-WR-CALNAME:Patriot Guard Riders
X-ORIGINAL-URL:https://www.patriotguard.org
X-WR-CALDESC:Events for Patriot Guard Riders
BEGIN:VTIMEZONE
TZID:America/New_York
BEGIN:DAYLIGHT
TZOFFSETFROM:-0500
TZOFFSETTO:-0400
TZNAME:EDT
DTSTART:20190310T070000
END:DAYLIGHT
BEGIN:STANDARD
TZOFFSETFROM:-0400
TZOFFSETTO:-0500
TZNAME:EST
DTSTART:20191103T060000
END:STANDARD
END:VTIMEZONE
BEGIN:VEVENT
DTSTART;VALUE=DATE:20190509
DTEND;VALUE=DATE:20190510
DTSTAMP:20210403T101627
CREATED:20190506T003606Z
LAST-MODIFIED:20190506T003606Z
UID:159771-1557360000-1557446399@www.patriotguard.org
SUMMARY:Jerry Guerrero
DESCRIPTION:Honor Mission\nJerry Guerrero\, Veteran\nUSA – Vietnam\nBoise\, Idaho – 05-09-19\n\n\n\n\nABOUT THE MISSION: \nWe will stand a flag line to honor Jerry’s life and service to his country.\nJerry was a Vietnam Veteran serving in the Army from 1969 to 1972.\n\n\nPRIMARY STAGING DETAILS: 05-09-19 \nStaging Time: 12:00 pm\n \nWinco parking lot\, corner of State St and Old Horseshoe Bend Rd.\nBoise\, Idaho\n\n\nRide Captain: \nDenver McCrory\n208-353-8809\nclee_83702@yahoo.com\n\n\nSpecial Instructions: \nHis inurnment will take place Thursday the 9th of May at Idaho State Veterans Cemetery\, 10100 Old Horseshoe Bend Rd.\, Boise. \nService is set for 1:00 PM. \nBriefing 1220 pm \nKSU 1230 pm. Ride as a group to ISVC and establish flag line on arrival. \n\n\nFlags & Water:\nFlags will not be provided\nIf you have large bike flags\, please bring them.\nWater WILL NOT be provided\, please bring your own.\n\n\n\n\nSubmitted By: Dario Bell \nPosition: Idaho State Captain \n\nNote: You do not have to own/ride a motorcycle or be a veteran to join\, and membership is Free. The only requirement is RESPECT! To subscribe to receive mission notices\, log into the National Site and click on the Members tab at the top. Select the Subscribe to PGR Missions option.\n Print This Page
URL:https://www.patriotguard.org/mission/jerry-guerrero/
CATEGORIES:Honor Mission
END:VEVENT
END:VCALENDAR