BEGIN:VCALENDAR
VERSION:2.0
PRODID:-//Patriot Guard Riders - ECPv5.6.0//NONSGML v1.0//EN
CALSCALE:GREGORIAN
METHOD:PUBLISH
X-WR-CALNAME:Patriot Guard Riders
X-ORIGINAL-URL:https://www.patriotguard.org
X-WR-CALDESC:Events for Patriot Guard Riders
BEGIN:VTIMEZONE
TZID:America/New_York
BEGIN:DAYLIGHT
TZOFFSETFROM:-0500
TZOFFSETTO:-0400
TZNAME:EDT
DTSTART:20160313T070000
END:DAYLIGHT
BEGIN:STANDARD
TZOFFSETFROM:-0400
TZOFFSETTO:-0500
TZNAME:EST
DTSTART:20161106T060000
END:STANDARD
END:VTIMEZONE
BEGIN:VEVENT
DTSTART;TZID=America/New_York:20160611T090000
DTEND;TZID=America/New_York:20160611T110000
DTSTAMP:20210513T150631
CREATED:20160611T130000Z
LAST-MODIFIED:20191201T145236Z
UID:411422-1465635600-1465642800@www.patriotguard.org
SUMMARY:Jerry Brown\, 77\, USA
DESCRIPTION:Jerry Brown\, 77\nUS Army Vietnam Veteran\nCrossville\, TN\nJune 11\, 2016\n\n\n\nOur Great State of Tennessee is mourning once again\, as we have lost another American Hero. \nThe Brown family has asked us to Stand a Flag Line and it will be our Honor to do so. \nArmy Corpsmen Jerry Brown 77\, was a Paratrooper during the Vietnam War. He also was serving as the President of the Christian Motorcycle Association (CMA)\, and has participated  in many rides with the Patriot Guard Riders. \nVisitation will be Saturday June 11\, 2016 at 1330\nCumberland Fellowship Church\n1640 West Ave\nCrossville\, TN 38555 \nServices to follow at 1400. There will be no escort. \nStaging: Directly at the Church. \nTime: 1245 \nFlags will be provided \nStay Hydrated\nHigh of 89* expected. \nPlease come out and Stand with US. \nRCIC:\nThonda Farmer\n931-248-1258\ntrfarmer58@live .com
URL:https://www.patriotguard.org/mission/jerry-brown-77-usa/
CATEGORIES:Archive
END:VEVENT
END:VCALENDAR