BEGIN:VCALENDAR
VERSION:2.0
PRODID:-//Patriot Guard Riders - ECPv5.6.0//NONSGML v1.0//EN
CALSCALE:GREGORIAN
METHOD:PUBLISH
X-WR-CALNAME:Patriot Guard Riders
X-ORIGINAL-URL:https://www.patriotguard.org
X-WR-CALDESC:Events for Patriot Guard Riders
BEGIN:VTIMEZONE
TZID:America/New_York
BEGIN:DAYLIGHT
TZOFFSETFROM:-0500
TZOFFSETTO:-0400
TZNAME:EDT
DTSTART:20160313T070000
END:DAYLIGHT
BEGIN:STANDARD
TZOFFSETFROM:-0400
TZOFFSETTO:-0500
TZNAME:EST
DTSTART:20161106T060000
END:STANDARD
END:VTIMEZONE
BEGIN:VEVENT
DTSTART;TZID=America/New_York:20160622T090000
DTEND;TZID=America/New_York:20160622T110000
DTSTAMP:20210513T182742
CREATED:20160622T130000Z
LAST-MODIFIED:20191201T144955Z
UID:411184-1466586000-1466593200@www.patriotguard.org
SUMMARY:Jerry Allen Olson\, 73
DESCRIPTION:Honor Mission\nMr. Jerry Allen Olson\, 73\nDayton\, OH\n[ATTACH=CONFIG]4833[/ATTACH]\nUS Air Force Veteran\n\n\nGraveside Service:\nDayton National Cemetery\n4400 W. Third Street\nDayton\, Ohio 45428\n22 June 2016@ 1100hrs-(11 AM)\nStaging: 22 June 2016@ 1030hrs-(10:30 AM) \nDistrict #7 Captain John McGee is assigned this mission of Honor and Respect. Please follow his instructions. Dress per the weather conditions and remember your 3’x5’ American flags. Use your own judgement on how you get safely to and from the mission. If you need to contact John\, e-mail him at: mcgee.pj@outlook.com. \n \n\n[ATTACH=CONFIG]4834[/ATTACH]\n“Rest in Peace Mr. Olson”\n\n\nRobert “Bob” Woods\nOhio State Captain
URL:https://www.patriotguard.org/mission/jerry-allen-olson-73/
CATEGORIES:Archive
END:VEVENT
END:VCALENDAR