BEGIN:VCALENDAR
VERSION:2.0
PRODID:-//Patriot Guard Riders - ECPv5.6.0//NONSGML v1.0//EN
CALSCALE:GREGORIAN
METHOD:PUBLISH
X-WR-CALNAME:Patriot Guard Riders
X-ORIGINAL-URL:https://www.patriotguard.org
X-WR-CALDESC:Events for Patriot Guard Riders
BEGIN:VTIMEZONE
TZID:America/New_York
BEGIN:DAYLIGHT
TZOFFSETFROM:-0500
TZOFFSETTO:-0400
TZNAME:EDT
DTSTART:20160313T070000
END:DAYLIGHT
BEGIN:STANDARD
TZOFFSETFROM:-0400
TZOFFSETTO:-0500
TZNAME:EST
DTSTART:20161106T060000
END:STANDARD
END:VTIMEZONE
BEGIN:VEVENT
DTSTART;TZID=America/New_York:20160728T090000
DTEND;TZID=America/New_York:20160728T110000
DTSTAMP:20210512T165623
CREATED:20160728T130000Z
LAST-MODIFIED:20191201T144017Z
UID:410299-1469696400-1469703600@www.patriotguard.org
SUMMARY:Jerome Rosenblum
DESCRIPTION:We have been asked by the family of Jerome Rosenblum\, an ARMY veteran\, to stand for him at his grave side service.\n\nThe link to the funeral home handling the service is: http://www.menorahchapelsatmillburn.com/book-of-memories/2660505/Rosenblum-Jerome/service-details.php \nAnyone wishing to attend should report to the cemetery office of the Beth Israel Cemetery\, 1098 Woodbridge Center Drive\, Woodbridge\, NJ by 10:30 am\, Thursday\, July 28\, 2016.\n\nAt 11:00\, the cemetery personnel will lead the procession to the grave site\, where a flag line may be established for the service. \nRC: TBD\n\nPOC:  Don Klein donald.klein@verizon.net
URL:https://www.patriotguard.org/mission/jerome-rosenblum/
END:VEVENT
END:VCALENDAR