BEGIN:VCALENDAR
VERSION:2.0
PRODID:-//Patriot Guard Riders - ECPv5.3.2.1//NONSGML v1.0//EN
CALSCALE:GREGORIAN
METHOD:PUBLISH
X-WR-CALNAME:Patriot Guard Riders
X-ORIGINAL-URL:https://www.patriotguard.org
X-WR-CALDESC:Events for Patriot Guard Riders
BEGIN:VTIMEZONE
TZID:America/New_York
BEGIN:DAYLIGHT
TZOFFSETFROM:-0500
TZOFFSETTO:-0400
TZNAME:EDT
DTSTART:20180311T070000
END:DAYLIGHT
BEGIN:STANDARD
TZOFFSETFROM:-0400
TZOFFSETTO:-0500
TZNAME:EST
DTSTART:20181104T060000
END:STANDARD
END:VTIMEZONE
BEGIN:VEVENT
DTSTART;TZID=America/New_York:20180510T124500
DTEND;TZID=America/New_York:20180510T144500
DTSTAMP:20210403T024916
CREATED:20180510T164500Z
LAST-MODIFIED:20200708T190006Z
UID:313388-1525956300-1525963500@www.patriotguard.org
SUMMARY:Jerome Louis Fleming\, Retired\, USAF - Vietnam
DESCRIPTION:Honor Mission\nJerome Louis Fleming\, Retired\nUSAF – Vietnam\nPensacola\, Florida – 10 May 2018\n\n\nABOUT THE MISSION: \nLtCol Jerome L. Fleming honorably and faithfully served his country in the United States Air Force until his retirement in 1991. During his service\, LtCol Fleming was an F4\, A10 and Air Force demonstration pilot.\nPRIMARY STAGING DETAILS: 10 May 2018\nPrimary Staging Time: 12:45 P.M. \nOlive Baptist Church\n103 W. Winthrop Ave\nPensacola\, Florida –\nRide Captain: \nRich Haller\n404 245 8563\nrichardhaller670@gmail.com\nSpecial Instructions: \nNaval Air Station requires; long sleeve shirts\, long trousers\, long fingered gloves\, DOT approved helmets\, leather foot wear covering the ankles and appropriate eye protection. This attire will be maintained always while riding aboard the Air Station.\n1:10 p.m. – Briefing for all riders\n1:15 p.m. – Roll Time to Barrancas National Cemetery\n2:00 p.m. – Honors at Barrancas National Cemetery\nFlags & Water: \nFlags Will Be Provided\nIf you have large bike flags\, please bring them.\nWater will be provided.\n  \n\nSubmitted By: Ray Doyle\nPosition: Assistant State Captain\n \n\nNote:\nYou do not have to own/ride a motorcycle or be a Veteran to join and membership is Free. The only requirement is RESPECT! To join\, simply go to www.PatriotGuard.org and click on Register. Membership is Free. \nTo subscribe to receive mission notices\, log into the National Site and click on the Mission Tab at the top. Select the Subscribe to Missions option.
URL:https://www.patriotguard.org/mission/jerome-louis-fleming-retired-usaf-vietnam/
CATEGORIES:Honor Mission
END:VEVENT
END:VCALENDAR