BEGIN:VCALENDAR
VERSION:2.0
PRODID:-//Patriot Guard Riders - ECPv5.3.2.1//NONSGML v1.0//EN
CALSCALE:GREGORIAN
METHOD:PUBLISH
X-WR-CALNAME:Patriot Guard Riders
X-ORIGINAL-URL:https://www.patriotguard.org
X-WR-CALDESC:Events for Patriot Guard Riders
BEGIN:VTIMEZONE
TZID:America/New_York
BEGIN:DAYLIGHT
TZOFFSETFROM:-0500
TZOFFSETTO:-0400
TZNAME:EDT
DTSTART:20210314T070000
END:DAYLIGHT
BEGIN:STANDARD
TZOFFSETFROM:-0400
TZOFFSETTO:-0500
TZNAME:EST
DTSTART:20211107T060000
END:STANDARD
END:VTIMEZONE
BEGIN:VEVENT
DTSTART;VALUE=DATE:20210401
DTEND;VALUE=DATE:20210402
DTSTAMP:20210403T122517
CREATED:20210331T234529Z
LAST-MODIFIED:20210331T234529Z
UID:573416-1617235200-1617321599@www.patriotguard.org
SUMMARY:Jeremy Jay Johnson
DESCRIPTION:Honor Mission\nJeremy Jay Johnson\, Veteran\, PGR\nUSMC –\nCedar Hill\, Texas – 04-01-21\n\n\n\nABOUT THE MISSION: \nNo obituary available.\n\n\nPRIMARY STAGING DETAILS: 04-01-21 \nStaging Time: 1:00 PM\n \nTrinity Church\n1231 E. Pleasant Run Rd.\nCedar Hill\, Texas 75104\n\n\nRide Captain: \nRick Crabb\nrickcrabb@patriotguard.org\n(910) 330-9861\n\n\nSpecial Instructions: \nStaging Time: 1pm\nBriefing Time: 1:10\nIn Position/KSU Time: 1:20\nStarting Time: 2pm\nAfter the Mission Briefing\, the Riders will establish the Flag Line and await the arrival of Jeremy’s family and friends.\nAs Jeremy was our brother too\, we will attend the service and have been asked to fold and present the casket flag.\nOnce the service concludes\, the Riders will return the flags to the support vehicle\, be debriefed and dismissed.\nJeremy will be cremated and inurned at a later date.\n\n\nFlags & Water:\nFlags will be provided\nLarge Bike Flags will NOT be needed.\nWater will be provided.\n\n\nSubmitted By: Dan Mathys \nPosition: Texas Ride Captain \n\nNote: You do not have to own/ride a motorcycle or be a veteran to join\, and membership is Free. The only requirement is RESPECT! To subscribe to receive mission notices\, log into the National Site and click on the Members tab at the top. Select the Subscribe to PGR Missions option.\n Print This Page
URL:https://www.patriotguard.org/mission/jeremy-jay-johnson/
CATEGORIES:Honor Mission
END:VEVENT
END:VCALENDAR