BEGIN:VCALENDAR
VERSION:2.0
PRODID:-//Patriot Guard Riders - ECPv5.3.2.1//NONSGML v1.0//EN
CALSCALE:GREGORIAN
METHOD:PUBLISH
X-WR-CALNAME:Patriot Guard Riders
X-ORIGINAL-URL:https://www.patriotguard.org
X-WR-CALDESC:Events for Patriot Guard Riders
BEGIN:VTIMEZONE
TZID:America/New_York
BEGIN:DAYLIGHT
TZOFFSETFROM:-0500
TZOFFSETTO:-0400
TZNAME:EDT
DTSTART:20190310T070000
END:DAYLIGHT
BEGIN:STANDARD
TZOFFSETFROM:-0400
TZOFFSETTO:-0500
TZNAME:EST
DTSTART:20191103T060000
END:STANDARD
END:VTIMEZONE
BEGIN:VEVENT
DTSTART;VALUE=DATE:20190717
DTEND;VALUE=DATE:20190718
DTSTAMP:20210403T195127
CREATED:20190714T154411Z
LAST-MODIFIED:20190714T154411Z
UID:167412-1563321600-1563407999@www.patriotguard.org
SUMMARY:Jeffrey Paul Knowlton
DESCRIPTION:Honor Mission\nJeffrey Paul Knowlton\, Veteran\nUSA – Vietnam\nSan Antonio\, Texas – 07-17-19\n\n\n\nABOUT THE MISSION: \nThe family of Mr. Jeffrey Paul Knowlton\, a US Army Veteran\, requests the presence and participation of the Patriot Guard at the funeral service\, LEO supported procession\, and graveside rendering of military honors of their loved one. Mr. Knowlton served in Vietnam and since he was injured\, he was honorably discharged as a Captain. He wanted to make the Army a career but after his second injury the FAA grounded him. Since he couldn’t fly\, he was then honorably discharged. He was asked later to come back as a flight instructor\, but declined. He entered the Army March 16\, 1966 and was discharged September 6\, 1973 after multiple injuries\, including being shot down and spending a week behind enemy lines.\n\n\nPRIMARY STAGING DETAILS: 07-17-19 \nStaging Time: 10:00 AM\n \nShearer Hills Baptist Church\n12615 San Pedro Ave\nSan Antonio\, Texas 78216\nMap\n\n\nRide Captain: \nCraig “Last Draftee” Hunter\nHarleyman51@verizon.net\n\n\nSpecial Instructions: \nStaging: 10:00 AM\nBriefing: 10:15 AM\nService: 11:00 AM\nKSU: 12:15 PM\nInterment: 01:00 PM\, Fort Sam Houston National Cemetery\, 1520 Harry Wurzbach Rd\, San Antonio\, TX 78209.\nMap\nFlags: Don “Chappy” Ingram\n\n\nFlags & Water:\nFlags will be provided\nIf you have large bike flags\, please bring them.\nWater will be provided.\n\n\n\nSubmitted By: Lisa Menard \nPosition: Texas Ride Captain \n\nNote: You do not have to own/ride a motorcycle or be a veteran to join\, and membership is Free. The only requirement is RESPECT! To subscribe to receive mission notices\, log into the National Site and click on the Members tab at the top. Select the Subscribe to PGR Missions option.\n Print This Page
URL:https://www.patriotguard.org/mission/jeffrey-paul-knowlton/
CATEGORIES:Honor Mission
END:VEVENT
END:VCALENDAR