BEGIN:VCALENDAR
VERSION:2.0
PRODID:-//Patriot Guard Riders - ECPv5.6.0//NONSGML v1.0//EN
CALSCALE:GREGORIAN
METHOD:PUBLISH
X-WR-CALNAME:Patriot Guard Riders
X-ORIGINAL-URL:https://www.patriotguard.org
X-WR-CALDESC:Events for Patriot Guard Riders
BEGIN:VTIMEZONE
TZID:America/New_York
BEGIN:DAYLIGHT
TZOFFSETFROM:-0500
TZOFFSETTO:-0400
TZNAME:EDT
DTSTART:20160313T070000
END:DAYLIGHT
BEGIN:STANDARD
TZOFFSETFROM:-0400
TZOFFSETTO:-0500
TZNAME:EST
DTSTART:20161106T060000
END:STANDARD
END:VTIMEZONE
BEGIN:VEVENT
DTSTART;TZID=America/New_York:20160816T090000
DTEND;TZID=America/New_York:20160816T110000
DTSTAMP:20210512T023121
CREATED:20160816T130000Z
LAST-MODIFIED:20191201T143526Z
UID:409851-1471338000-1471345200@www.patriotguard.org
SUMMARY:Jeffrey L. Shankles\, 59
DESCRIPTION:[FONT=&amp] \n\n16 August 2016\n\n\n[/FONT][FONT=&amp] \n\nJeffrey L. Shankles\n\n[/FONT][FONT=&amp] \n\nU.S. Marine Corp.\n\n[/FONT][FONT=&amp] \n\nFort Payne\, AL\n\n\n[/FONT][FONT=&amp] \n\nAmerica and Alabama has lost another Hero\n\n\n[/FONT]\n \n[FONT=&amp]The family of Jeffrey L. Shankles has asked the Patriot Guard to honor their loved one by standing a flag line at his visitation and escorting him to his final resting place. We will be Honored to do so.\n[/FONT]\n[FONT=&amp]Mr. Shankles\, (59) was in the U.S. Marines. He served God\, his country\, loved his family and old muscle cars.\n[/FONT]\n[FONT=&amp]Visitation:[/FONT]\n[FONT=&amp]Wednesday 8-17-16[/FONT]\n[FONT=&amp]4:00 pm-8:00 pm[/FONT]\n[FONT=&amp]Family will arrive at 3:00 pm[/FONT]\n[FONT=&amp]Wilson Funeral Home[/FONT]\n[FONT=&amp]3801 Gault Ave. N.[/FONT]\n[FONT=&amp]Fort Payne\, AL 35967[/FONT]\n[FONT=&amp]Stage at 2:30pm[/FONT] \n[FONT=&amp]Funeral Service:[/FONT]\n[FONT=&amp]Lie In State[/FONT]\n[FONT=&amp]12:00 pm-1:00 pm[/FONT]\n[FONT=&amp]Service: 1:00 pm[/FONT]\n[FONT=&amp]Second Baptist Church[/FONT]\n[FONT=&amp]1021 Grand Ave. NW[/FONT]\n[FONT=&amp]Fort Payne\, AL  35967[/FONT] \n[FONT=&amp]Burial with military honors following service:[/FONT]\n[FONT=&amp]Fuller Cemetery[/FONT]\n[FONT=&amp]County Road 773[/FONT]\n[FONT=&amp]Ider\, AL  35981[/FONT] \n[FONT=&amp]RCIC: Rudy Price [/FONT]\n[FONT=&amp][URL=”tel:256-605-4895″]256-605-4895[/URL][/FONT]\n[FONT=&amp]rmprice2004@yahoo.com[/FONT]
URL:https://www.patriotguard.org/mission/jeffrey-l-shankles-59/
CATEGORIES:Archive
END:VEVENT
END:VCALENDAR