BEGIN:VCALENDAR
VERSION:2.0
PRODID:-//Patriot Guard Riders - ECPv5.3.2.1//NONSGML v1.0//EN
CALSCALE:GREGORIAN
METHOD:PUBLISH
X-WR-CALNAME:Patriot Guard Riders
X-ORIGINAL-URL:https://www.patriotguard.org
X-WR-CALDESC:Events for Patriot Guard Riders
BEGIN:VTIMEZONE
TZID:America/New_York
BEGIN:DAYLIGHT
TZOFFSETFROM:-0500
TZOFFSETTO:-0400
TZNAME:EDT
DTSTART:20190310T070000
END:DAYLIGHT
BEGIN:STANDARD
TZOFFSETFROM:-0400
TZOFFSETTO:-0500
TZNAME:EST
DTSTART:20191103T060000
END:STANDARD
END:VTIMEZONE
BEGIN:VEVENT
DTSTART;VALUE=DATE:20190419
DTEND;VALUE=DATE:20190420
DTSTAMP:20210404T180824
CREATED:20190417T034700Z
LAST-MODIFIED:20190417T034753Z
UID:157661-1555632000-1555718399@www.patriotguard.org
SUMMARY:Javier Ortega
DESCRIPTION:Honor Mission\nJavier Ortega\, Retired\, Veteran\nUSMC – GW/ODS\nBoise\, Idaho  04-19-19\n\n\nABOUT THE MISSION:\n\nWe will stand a flag line to honor Javier Ortega’s life and service to his country. A funeral service will be held on Friday April 19\, at 1200 noon\, at Cloverdale United Reformed Church\, with interment to follow at Idaho State Veterans Cemetery. Javier served in the USMC retiring in 2001 with the rank of MSGT.\n\n\nPRIMARY STAGING DETAILS: 04-19-19 \nStaging Time: 11:00 am \nEast side parking lot\,\nCloverdale United Reformed Church\n3580 N Cloverdale Rd (Between Ustick and McMillan Rds)\nBoise\, Idaho\n\n\nRide Captain: \nRichard Percival\n208-859-6478\nrpercival@idfbins.com\n\n\nSpecial Instructions: \nBriefing 1115 am. Establish flag line NLT 1120 am.\nUpon commencement of service\, riders will be dismissed and travel to ISVC and establish a 2nd flag line and await arrival of procession.\nIf necessary\, a missing man formation will be assigned at this time.\n\nFlags & Water:\nFlags will not be provided\nIf you have large bike flags\, please bring them.\nWater WILL NOT be provided\, please bring your own.\n\n\n\nSubmitted By: Dario Bell \nPosition: Idaho State Captain \n\nNote: You do not have to own/ride a motorcycle or be a veteran to join\, and membership is Free. The only requirement is RESPECT! To subscribe to receive mission notices\, log into the National Site and click on the Members tab at the top. Select the Subscribe to PGR Missions option.\n Print This Page
URL:https://www.patriotguard.org/mission/javier-ortega/
CATEGORIES:Honor Mission
END:VEVENT
END:VCALENDAR