BEGIN:VCALENDAR
VERSION:2.0
PRODID:-//Patriot Guard Riders - ECPv5.3.2.1//NONSGML v1.0//EN
CALSCALE:GREGORIAN
METHOD:PUBLISH
X-WR-CALNAME:Patriot Guard Riders
X-ORIGINAL-URL:https://www.patriotguard.org
X-WR-CALDESC:Events for Patriot Guard Riders
BEGIN:VTIMEZONE
TZID:America/New_York
BEGIN:DAYLIGHT
TZOFFSETFROM:-0500
TZOFFSETTO:-0400
TZNAME:EDT
DTSTART:20190310T070000
END:DAYLIGHT
BEGIN:STANDARD
TZOFFSETFROM:-0400
TZOFFSETTO:-0500
TZNAME:EST
DTSTART:20191103T060000
END:STANDARD
END:VTIMEZONE
BEGIN:VEVENT
DTSTART;VALUE=DATE:20190612
DTEND;VALUE=DATE:20190613
DTSTAMP:20210405T082321
CREATED:20190611T001216Z
LAST-MODIFIED:20190611T001216Z
UID:164078-1560297600-1560383999@www.patriotguard.org
SUMMARY:Jason Pettainen
DESCRIPTION:Honor Mission\nJason Pettainen\, Veteran\nUSA – GW/ODS\nHoquiam\, Washington – 06-12-19\n\n\n\n\nABOUT THE MISSION: \nLadies and Gentlemen of the Patriot Guard Riders\,\nWe have been invited to honor Private Jason Pettainen\, U.S. Army. He served proudly from June\, 1992 until March\, 1994 including an overseas tour during the Gulf War. Jason was awarded the National Defense Service Medal and the Southwest Asia Service Medal.\nAfter his active service\, he had many jobs including fishing in Alaska\, security with Weyerhaeuser and Westport Mill.\nJason enjoyed many outdoor activities and writing poetry.\nHe was just 48 at his passing. He is survived by four sons\, many other relatives and a loving fiancé. The Private was a proud veteran and his family has requested that we come out to honor him at his inurnment.\n\n\nPRIMARY STAGING DETAILS: 06-12-19 \nStaging Time: 1400 hrs\n \nShell220 Sunset Drive\nHoquiam\, Washington 98550\n\n\nRide Captain: \nDean Thiem\ndftcars198@comcast.net\n1-360-969-1755\n\n\nSpecial Instructions: \n1345 hrs: RC\, RCIT\, SV arrive\n1400 hrs: Riders arrive\, sign in\n1415 hrs: Ride Brief\n1430 hrs: KSU for service location\n1445 hrs: Arrive service location\, set up flag line\n1530 hrs: Service Starts\n1600 hrs: or end of service\, debrief and fade away\nWeather is forecast to be in the mid 70’s with some clouds. Please check the weather. There is no shame riding in a cage.\nAssisted by: Erik “Big E” Eisenberg\, lj45flight@yahoo.com\, 360-224-8998 and Mike Collins\, lj45flight15_444@yahoo.com\, 360-871-1474\n\n\nFlags & Water:\nFlags will be provided\nLarge Bike Flags will NOT be needed.\nWater will be provided.\n\n\n\nSubmitted By: Dean Thiem \nPosition: Washington Ride Captain \n\nNote: You do not have to own/ride a motorcycle or be a veteran to join\, and membership is Free. The only requirement is RESPECT! To subscribe to receive mission notices\, log into the National Site and click on the Members tab at the top. Select the Subscribe to PGR Missions option.\n Print This Page
URL:https://www.patriotguard.org/mission/jason-pettainen/
CATEGORIES:Honor Mission
END:VEVENT
END:VCALENDAR