BEGIN:VCALENDAR
VERSION:2.0
PRODID:-//Patriot Guard Riders - ECPv5.3.2.1//NONSGML v1.0//EN
CALSCALE:GREGORIAN
METHOD:PUBLISH
X-WR-CALNAME:Patriot Guard Riders
X-ORIGINAL-URL:https://www.patriotguard.org
X-WR-CALDESC:Events for Patriot Guard Riders
BEGIN:VTIMEZONE
TZID:America/New_York
BEGIN:DAYLIGHT
TZOFFSETFROM:-0500
TZOFFSETTO:-0400
TZNAME:EDT
DTSTART:20190310T070000
END:DAYLIGHT
BEGIN:STANDARD
TZOFFSETFROM:-0400
TZOFFSETTO:-0500
TZNAME:EST
DTSTART:20191103T060000
END:STANDARD
END:VTIMEZONE
BEGIN:VEVENT
DTSTART;VALUE=DATE:20190907
DTEND;VALUE=DATE:20190908
DTSTAMP:20210401T111542
CREATED:20190905T201148Z
LAST-MODIFIED:20190905T201209Z
UID:172776-1567814400-1567900799@www.patriotguard.org
SUMMARY:Jason F. Maroney
DESCRIPTION:Honor Mission\nJason F. Maroney\, Veteran\nUSMC\nLeesville\, South Carolina – 09-07-19\n\n\n\nABOUT THE MISSION: \nThe family of USMC Veteran Jason Maroney has asked the PGR to stand for their loved one as he stood for us during his 5 years of service in the USMC.\n\n\nPRIMARY STAGING DETAILS: 09-07-19 \nStaging Time: 1:45 PM  \nBarr-Price Funeral Home\nBatesburg-Leesville Chapel\n256 Main Street\nLeesville\, South Carolina 29070\nhttps://goo.gl/maps/jRb11cYcZ9h7vc7bA\n\n\nRide Captain: \nRon Kelly\n(803) 532-8933\n\n\nSpecial Instructions: \nBriefing: 2:00 PM\nAfter the briefing\, we will establish a flag line and maintain it until the start of service at 3:00 PM. We will then stand down and prepare to escort to\nRidge Crest Memorial Park\n327 Summerland Ave\nBatesburg-Leesville for graveside services.\nCemetery: https://goo.gl/maps/fji5mjawrYW4DbBQ8\n\n\nFlags & Water:\nFlags will be provided\nIf you have large bike flags\, please bring them.\nWater will be provided.\n\n\nSubmitted By: L.Z. Harrison\, Jr. \nPosition: South Carolina Assistant State Captain \n\nNote: You do not have to own/ride a motorcycle or be a veteran to join\, and membership is Free. The only requirement is RESPECT! To subscribe to receive mission notices\, log into the National Site and click on the Members tab at the top. Select the Subscribe to PGR Missions option.\n Print This Page
URL:https://www.patriotguard.org/mission/jason-f-maroney/
CATEGORIES:Honor Mission
END:VEVENT
END:VCALENDAR