BEGIN:VCALENDAR
VERSION:2.0
PRODID:-//Patriot Guard Riders - ECPv5.3.2.1//NONSGML v1.0//EN
CALSCALE:GREGORIAN
METHOD:PUBLISH
X-WR-CALNAME:Patriot Guard Riders
X-ORIGINAL-URL:https://www.patriotguard.org
X-WR-CALDESC:Events for Patriot Guard Riders
BEGIN:VTIMEZONE
TZID:America/New_York
BEGIN:DAYLIGHT
TZOFFSETFROM:-0500
TZOFFSETTO:-0400
TZNAME:EDT
DTSTART:20190310T070000
END:DAYLIGHT
BEGIN:STANDARD
TZOFFSETFROM:-0400
TZOFFSETTO:-0500
TZNAME:EST
DTSTART:20191103T060000
END:STANDARD
END:VTIMEZONE
BEGIN:VEVENT
DTSTART;VALUE=DATE:20190923
DTEND;VALUE=DATE:20190924
DTSTAMP:20210401T020751
CREATED:20190922T195008Z
LAST-MODIFIED:20190922T195008Z
UID:175981-1569196800-1569283199@www.patriotguard.org
SUMMARY:Jared Faunce
DESCRIPTION:Honor Mission\nJared Faunce\, Active Duty\nUSAF\nKansas City\, Missouri – 09-23-19\n\n\n \n\nABOUT THE MISSION: \nThis mission will be a Dignified Transfer of Airman Jared Faunce at KCI so that he may taken to his final resting place. Airman Faunce was an active duty airman at McConnell AFB. We will man a flag line and participate in this ceremony as directed by Airport Police.\n\n\nPRIMARY STAGING DETAILS: 09-23-19 \nStaging Time: 9:45 am\n \nAir General\n594 Mexico City Avenue\nKansas City International Airport\nKansas City\, Missouri 64153\n\n\nRide Captain: \nBruce (Medic) Holmes\nbholmes5@kc.rr.com\n913-901-7722\n\n\nSpecial Instructions: \nIf you have a large American Flag (3′ X 5′) that you can hold\, feel free to bring it.\nSecurity will be heightened.\n\nFlags & Water:\nFlags will be provided\nLarge Bike Flags will NOT be needed.\nWater WILL NOT be provided\, please bring your own.\n\n\n\nSubmitted By: Bruce Holmes \nPosition: Kansas State Captain \n\nNote: You do not have to own/ride a motorcycle or be a veteran to join\, and membership is Free. The only requirement is RESPECT! To subscribe to receive mission notices\, log into the National Site and click on the Members tab at the top. Select the Subscribe to PGR Missions option.\n Print This Page
URL:https://www.patriotguard.org/mission/jared-faunce/
CATEGORIES:Honor Mission
END:VEVENT
END:VCALENDAR